BEGIN:VCALENDAR
VERSION:2.0
PRODID:-//HSV Bernauer Bären e.V. - ECPv6.15.13//NONSGML v1.0//EN
CALSCALE:GREGORIAN
METHOD:PUBLISH
X-WR-CALNAME:HSV Bernauer Bären e.V.
X-ORIGINAL-URL:https://www.hsvbb.org
X-WR-CALDESC:Veranstaltungen für HSV Bernauer Bären e.V.
REFRESH-INTERVAL;VALUE=DURATION:PT1H
X-Robots-Tag:noindex
X-PUBLISHED-TTL:PT1H
BEGIN:VTIMEZONE
TZID:Europe/Berlin
BEGIN:DAYLIGHT
TZOFFSETFROM:+0100
TZOFFSETTO:+0200
TZNAME:CEST
DTSTART:20200329T010000
END:DAYLIGHT
BEGIN:STANDARD
TZOFFSETFROM:+0200
TZOFFSETTO:+0100
TZNAME:CET
DTSTART:20201025T010000
END:STANDARD
BEGIN:DAYLIGHT
TZOFFSETFROM:+0100
TZOFFSETTO:+0200
TZNAME:CEST
DTSTART:20210328T010000
END:DAYLIGHT
BEGIN:STANDARD
TZOFFSETFROM:+0200
TZOFFSETTO:+0100
TZNAME:CET
DTSTART:20211031T010000
END:STANDARD
BEGIN:DAYLIGHT
TZOFFSETFROM:+0100
TZOFFSETTO:+0200
TZNAME:CEST
DTSTART:20220327T010000
END:DAYLIGHT
BEGIN:STANDARD
TZOFFSETFROM:+0200
TZOFFSETTO:+0100
TZNAME:CET
DTSTART:20221030T010000
END:STANDARD
BEGIN:DAYLIGHT
TZOFFSETFROM:+0100
TZOFFSETTO:+0200
TZNAME:CEST
DTSTART:20230326T010000
END:DAYLIGHT
BEGIN:STANDARD
TZOFFSETFROM:+0200
TZOFFSETTO:+0100
TZNAME:CET
DTSTART:20231029T010000
END:STANDARD
BEGIN:DAYLIGHT
TZOFFSETFROM:+0100
TZOFFSETTO:+0200
TZNAME:CEST
DTSTART:20240331T010000
END:DAYLIGHT
BEGIN:STANDARD
TZOFFSETFROM:+0200
TZOFFSETTO:+0100
TZNAME:CET
DTSTART:20241027T010000
END:STANDARD
BEGIN:DAYLIGHT
TZOFFSETFROM:+0100
TZOFFSETTO:+0200
TZNAME:CEST
DTSTART:20250330T010000
END:DAYLIGHT
BEGIN:STANDARD
TZOFFSETFROM:+0200
TZOFFSETTO:+0100
TZNAME:CET
DTSTART:20251026T010000
END:STANDARD
BEGIN:DAYLIGHT
TZOFFSETFROM:+0100
TZOFFSETTO:+0200
TZNAME:CEST
DTSTART:20260329T010000
END:DAYLIGHT
BEGIN:STANDARD
TZOFFSETFROM:+0200
TZOFFSETTO:+0100
TZNAME:CET
DTSTART:20261025T010000
END:STANDARD
END:VTIMEZONE
BEGIN:VEVENT
DTSTART;TZID=Europe/Berlin:20251115T130000
DTEND;TZID=Europe/Berlin:20251115T143000
DTSTAMP:20260420T164956
CREATED:20251111T161101Z
LAST-MODIFIED:20251111T161101Z
UID:10011860-1763211600-1763217000@www.hsvbb.org
SUMMARY:Verbandsliga: 1. Frauen fahren zum FK Hansa Wittstock 1919
DESCRIPTION:
URL:https://www.hsvbb.org/veranstaltung/verbandsliga-1-frauen-fahren-zum-fk-hansa-wittstock-1919-2/
LOCATION:4150 Stadthalle Wittstock\, Ringstraße 28\, Wittstock\, 16909\, Deutschland
CATEGORIES:Auswärtsspiel,Frauen I,Mannschaft,Spiel
END:VEVENT
BEGIN:VEVENT
DTSTART;TZID=Europe/Berlin:20251004T173000
DTEND;TZID=Europe/Berlin:20251004T190000
DTSTAMP:20260420T164956
CREATED:20250924T153357Z
LAST-MODIFIED:20250924T153945Z
UID:10011839-1759599000-1759604400@www.hsvbb.org
SUMMARY:Verbandsliga: 2. Männer fahren zum FK Hansa Wittstock 1919
DESCRIPTION:
URL:https://www.hsvbb.org/veranstaltung/verbandsliga-1-frauen-fahren-zum-fk-hansa-wittstock-1919/
LOCATION:4150 Stadthalle Wittstock\, Ringstraße 28\, Wittstock\, 16909\, Deutschland
CATEGORIES:Auswärtsspiel,Männer II,Mannschaft,Spiel
END:VEVENT
BEGIN:VEVENT
DTSTART;TZID=Europe/Berlin:20250329T151500
DTEND;TZID=Europe/Berlin:20250329T170000
DTSTAMP:20260420T164956
CREATED:20240908T130133Z
LAST-MODIFIED:20240908T130133Z
UID:10011678-1743261300-1743267600@www.hsvbb.org
SUMMARY:Verbandsliga: Frauen fahren zum FK Hansa Wittstock 1919
DESCRIPTION:1. Frauen
URL:https://www.hsvbb.org/veranstaltung/verbandsliga-frauen-fahren-zum-fk-hansa-wittstock-1919/
LOCATION:4150 Stadthalle Wittstock\, Ringstraße 28\, Wittstock\, 16909\, Deutschland
CATEGORIES:Auswärtsspiel,Frauen I
ATTACH;FMTTYPE=image/png:https://www.hsvbb.org/wp-content/uploads/2023/09/auswaerts.png
END:VEVENT
BEGIN:VEVENT
DTSTART;TZID=Europe/Berlin:20240323T180000
DTEND;TZID=Europe/Berlin:20240323T193000
DTSTAMP:20260420T164956
CREATED:20230907T134647Z
LAST-MODIFIED:20230907T134647Z
UID:10009078-1711216800-1711222200@www.hsvbb.org
SUMMARY:Verbandsliga: Männer 1 fährt zu FK Hansa Wittstock 1919
DESCRIPTION:1. Männer
URL:https://www.hsvbb.org/veranstaltung/verbandsliga-maenner-1-faehrt-zu-fk-hansa-wittstock-1919/
LOCATION:4150 Stadthalle Wittstock\, Ringstraße 28\, Wittstock\, 16909\, Deutschland
CATEGORIES:Auswärtsspiel,Männer I
ATTACH;FMTTYPE=image/png:https://www.hsvbb.org/wp-content/uploads/2023/09/auswaerts.png
END:VEVENT
BEGIN:VEVENT
DTSTART;TZID=Europe/Berlin:20231014T160000
DTEND;TZID=Europe/Berlin:20231014T173000
DTSTAMP:20260420T164956
CREATED:20230907T153233Z
LAST-MODIFIED:20230907T153233Z
UID:10009106-1697299200-1697304600@www.hsvbb.org
SUMMARY:Verbandsliga: Frauen fahren zu FK Hansa Wittstock 1919
DESCRIPTION:1. Frauen
URL:https://www.hsvbb.org/veranstaltung/verbandsliga-frauen-fahren-zu-fk-hansa-wittstock-1919-2/
LOCATION:4150 Stadthalle Wittstock\, Ringstraße 28\, Wittstock\, 16909\, Deutschland
CATEGORIES:Auswärtsspiel,Frauen I
ATTACH;FMTTYPE=image/png:https://www.hsvbb.org/wp-content/uploads/2023/09/auswaerts.png
END:VEVENT
BEGIN:VEVENT
DTSTART;TZID=Europe/Berlin:20230325T100000
DTEND;TZID=Europe/Berlin:20230325T113000
DTSTAMP:20260420T164956
CREATED:20230109T202119Z
LAST-MODIFIED:20230109T202202Z
UID:10007383-1679738400-1679743800@www.hsvbb.org
SUMMARY:Brandenburgliga: mJB fährt zu FK Hansa Wittstock 1919
DESCRIPTION:Alter Termin:\n\nBrandenburgliga: mJB fährt zu FK Hansa Wittstock 1919
URL:https://www.hsvbb.org/veranstaltung/brandenburgliga-mjb-faehrt-zu-fk-hansa-wittstock-1919-2/
LOCATION:4150 Stadthalle Wittstock\, Ringstraße 28\, Wittstock\, 16909\, Deutschland
CATEGORIES:Auswärtsspiel,männliche Jugend A
END:VEVENT
BEGIN:VEVENT
DTSTART;TZID=Europe/Berlin:20230121T151500
DTEND;TZID=Europe/Berlin:20230121T170000
DTSTAMP:20260420T164956
CREATED:20230108T104356Z
LAST-MODIFIED:20230108T104356Z
UID:10007370-1674314100-1674320400@www.hsvbb.org
SUMMARY:Verbandsliga: Frauen fahren zu FK Hansa Wittstock 1919
DESCRIPTION:
URL:https://www.hsvbb.org/veranstaltung/verbandsliga-frauen-fahren-zu-fk-hansa-wittstock-1919/
LOCATION:4150 Stadthalle Wittstock\, Ringstraße 28\, Wittstock\, 16909\, Deutschland
CATEGORIES:Auswärtsspiel,Frauen I
END:VEVENT
BEGIN:VEVENT
DTSTART;TZID=Europe/Berlin:20221210T100000
DTEND;TZID=Europe/Berlin:20221210T113000
DTSTAMP:20260420T164956
CREATED:20221009T144419Z
LAST-MODIFIED:20230109T202122Z
UID:10007327-1670666400-1670671800@www.hsvbb.org
SUMMARY:Brandenburgliga: mJB fährt zu FK Hansa Wittstock 1919
DESCRIPTION:Neuer Termin:\n\nBrandenburgliga: mJB fährt zu FK Hansa Wittstock 1919
URL:https://www.hsvbb.org/veranstaltung/brandenburgliga-mjb-faehrt-zu-fk-hansa-wittstock-1919/
LOCATION:4150 Stadthalle Wittstock\, Ringstraße 28\, Wittstock\, 16909\, Deutschland
CATEGORIES:Auswärtsspiel,männliche Jugend A
END:VEVENT
BEGIN:VEVENT
DTSTART;TZID=Europe/Berlin:20221203T173000
DTEND;TZID=Europe/Berlin:20221203T190000
DTSTAMP:20260420T164956
CREATED:20221009T130222Z
LAST-MODIFIED:20221009T130222Z
UID:10007302-1670088600-1670094000@www.hsvbb.org
SUMMARY:Verbandsliga: Männer fahren zu FK Hansa Wittstock 1919
DESCRIPTION:
URL:https://www.hsvbb.org/veranstaltung/verbandsliga-maenner-fahren-zu-fk-hansa-wittstock-1919/
LOCATION:4150 Stadthalle Wittstock\, Ringstraße 28\, Wittstock\, 16909\, Deutschland
CATEGORIES:Auswärtsspiel,Männer I
END:VEVENT
BEGIN:VEVENT
DTSTART;TZID=Europe/Berlin:20210925T173000
DTEND;TZID=Europe/Berlin:20210925T190000
DTSTAMP:20260420T164956
CREATED:20210923T201757Z
LAST-MODIFIED:20210923T201757Z
UID:10006774-1632591000-1632596400@www.hsvbb.org
SUMMARY:1. Männer fahren zu FK Hansa Wittstock 1919
DESCRIPTION:
URL:https://www.hsvbb.org/veranstaltung/1-maenner-fahren-zu-fk-hansa-wittstock-1919/
LOCATION:4150 Stadthalle Wittstock\, Ringstraße 28\, Wittstock\, 16909\, Deutschland
CATEGORIES:Auswärtsspiel,Männer I
END:VEVENT
END:VCALENDAR