BEGIN:VCALENDAR
VERSION:2.0
PRODID:-//HSV Bernauer Bären e.V. - ECPv6.15.13//NONSGML v1.0//EN
CALSCALE:GREGORIAN
METHOD:PUBLISH
X-ORIGINAL-URL:https://www.hsvbb.org
X-WR-CALDESC:Veranstaltungen für HSV Bernauer Bären e.V.
REFRESH-INTERVAL;VALUE=DURATION:PT1H
X-Robots-Tag:noindex
X-PUBLISHED-TTL:PT1H
BEGIN:VTIMEZONE
TZID:Europe/Berlin
BEGIN:DAYLIGHT
TZOFFSETFROM:+0100
TZOFFSETTO:+0200
TZNAME:CEST
DTSTART:20210328T010000
END:DAYLIGHT
BEGIN:STANDARD
TZOFFSETFROM:+0200
TZOFFSETTO:+0100
TZNAME:CET
DTSTART:20211031T010000
END:STANDARD
BEGIN:DAYLIGHT
TZOFFSETFROM:+0100
TZOFFSETTO:+0200
TZNAME:CEST
DTSTART:20220327T010000
END:DAYLIGHT
BEGIN:STANDARD
TZOFFSETFROM:+0200
TZOFFSETTO:+0100
TZNAME:CET
DTSTART:20221030T010000
END:STANDARD
BEGIN:DAYLIGHT
TZOFFSETFROM:+0100
TZOFFSETTO:+0200
TZNAME:CEST
DTSTART:20230326T010000
END:DAYLIGHT
BEGIN:STANDARD
TZOFFSETFROM:+0200
TZOFFSETTO:+0100
TZNAME:CET
DTSTART:20231029T010000
END:STANDARD
BEGIN:DAYLIGHT
TZOFFSETFROM:+0100
TZOFFSETTO:+0200
TZNAME:CEST
DTSTART:20240331T010000
END:DAYLIGHT
BEGIN:STANDARD
TZOFFSETFROM:+0200
TZOFFSETTO:+0100
TZNAME:CET
DTSTART:20241027T010000
END:STANDARD
BEGIN:DAYLIGHT
TZOFFSETFROM:+0100
TZOFFSETTO:+0200
TZNAME:CEST
DTSTART:20250330T010000
END:DAYLIGHT
BEGIN:STANDARD
TZOFFSETFROM:+0200
TZOFFSETTO:+0100
TZNAME:CET
DTSTART:20251026T010000
END:STANDARD
BEGIN:DAYLIGHT
TZOFFSETFROM:+0100
TZOFFSETTO:+0200
TZNAME:CEST
DTSTART:20260329T010000
END:DAYLIGHT
BEGIN:STANDARD
TZOFFSETFROM:+0200
TZOFFSETTO:+0100
TZNAME:CET
DTSTART:20261025T010000
END:STANDARD
END:VTIMEZONE
BEGIN:VEVENT
DTSTART;TZID=Europe/Berlin:20251130T100000
DTEND;TZID=Europe/Berlin:20251130T110000
DTSTAMP:20260421T135521
CREATED:20251119T150613Z
LAST-MODIFIED:20251119T150613Z
UID:10011881-1764496800-1764500400@www.hsvbb.org
SUMMARY:Kreisoberliga: wJE fährt zum SV Union Neuruppin
DESCRIPTION:
URL:https://www.hsvbb.org/veranstaltung/kreisoberliga-wje-faehrt-zum-sv-union-neuruppin/
LOCATION:4100 Sporthalle am Oberstufenzentrum\, Alt-Ruppiner-Allee 39\, Neuruppin\, 16816\, Deutschland
CATEGORIES:Auswärtsspiel,Mannschaft,Spiel
END:VEVENT
BEGIN:VEVENT
DTSTART;TZID=Europe/Berlin:20251129T140000
DTEND;TZID=Europe/Berlin:20251129T153000
DTSTAMP:20260421T135521
CREATED:20251119T151436Z
LAST-MODIFIED:20251119T151436Z
UID:10011885-1764424800-1764430200@www.hsvbb.org
SUMMARY:Oberliga Brandenburg: mJC fährt zum HC Neuruppin
DESCRIPTION:
URL:https://www.hsvbb.org/veranstaltung/oberliga-brandenburg-mjc-faehrt-zum-hc-neuruppin/
LOCATION:4100 Sporthalle am Oberstufenzentrum\, Alt-Ruppiner-Allee 39\, Neuruppin\, 16816\, Deutschland
CATEGORIES:Auswärtsspiel,männliche Jugend C,Mannschaft,Spiel
END:VEVENT
BEGIN:VEVENT
DTSTART;TZID=Europe/Berlin:20250927T160000
DTEND;TZID=Europe/Berlin:20250927T173000
DTSTAMP:20260421T135521
CREATED:20250902T090437Z
LAST-MODIFIED:20250902T090437Z
UID:10011834-1758988800-1758994200@www.hsvbb.org
SUMMARY:Verbandsliga: 1. Frauen fährt zum SV Union Neuruppin
DESCRIPTION:
URL:https://www.hsvbb.org/veranstaltung/verbandsliga-1-frauen-faehrt-zum-sv-union-neuruppin/
LOCATION:4100 Sporthalle am Oberstufenzentrum\, Alt-Ruppiner-Allee 39\, Neuruppin\, 16816\, Deutschland
CATEGORIES:Auswärtsspiel,Frauen I,Mannschaft,Spiel
END:VEVENT
BEGIN:VEVENT
DTSTART;TZID=Europe/Berlin:20221016T160000
DTEND;TZID=Europe/Berlin:20221016T173000
DTSTAMP:20260421T135521
CREATED:20220918T055031Z
LAST-MODIFIED:20221014T151246Z
UID:10007294-1665936000-1665941400@www.hsvbb.org
SUMMARY:Ü40 fährt zum HC Neuruppin
DESCRIPTION:
URL:https://www.hsvbb.org/veranstaltung/ue40-faehrt-zum-hc-neuruppin/
LOCATION:4100 Sporthalle am Oberstufenzentrum\, Alt-Ruppiner-Allee 39\, Neuruppin\, 16816\, Deutschland
CATEGORIES:Auswärtsspiel,Ü40
END:VEVENT
BEGIN:VEVENT
DTSTART;TZID=Europe/Berlin:20220903T160000
DTEND;TZID=Europe/Berlin:20220903T173000
DTSTAMP:20260421T135521
CREATED:20220822T191014Z
LAST-MODIFIED:20220822T191014Z
UID:10007281-1662220800-1662226200@www.hsvbb.org
SUMMARY:Verbandsliga: Frauen fahren zum SV Union Neuruppin
DESCRIPTION:
URL:https://www.hsvbb.org/veranstaltung/verbandsliga-frauen-fahren-zum-sv-union-neuruppin/
LOCATION:4100 Sporthalle am Oberstufenzentrum\, Alt-Ruppiner-Allee 39\, Neuruppin\, 16816\, Deutschland
CATEGORIES:Auswärtsspiel,Frauen I
END:VEVENT
END:VCALENDAR