BEGIN:VCALENDAR
VERSION:2.0
PRODID:-//HSV Bernauer Bären e.V. - ECPv6.15.13//NONSGML v1.0//EN
CALSCALE:GREGORIAN
METHOD:PUBLISH
X-ORIGINAL-URL:https://www.hsvbb.org
X-WR-CALDESC:Veranstaltungen für HSV Bernauer Bären e.V.
REFRESH-INTERVAL;VALUE=DURATION:PT1H
X-Robots-Tag:noindex
X-PUBLISHED-TTL:PT1H
BEGIN:VTIMEZONE
TZID:Europe/Berlin
BEGIN:DAYLIGHT
TZOFFSETFROM:+0100
TZOFFSETTO:+0200
TZNAME:CEST
DTSTART:20210328T010000
END:DAYLIGHT
BEGIN:STANDARD
TZOFFSETFROM:+0200
TZOFFSETTO:+0100
TZNAME:CET
DTSTART:20211031T010000
END:STANDARD
BEGIN:DAYLIGHT
TZOFFSETFROM:+0100
TZOFFSETTO:+0200
TZNAME:CEST
DTSTART:20220327T010000
END:DAYLIGHT
BEGIN:STANDARD
TZOFFSETFROM:+0200
TZOFFSETTO:+0100
TZNAME:CET
DTSTART:20221030T010000
END:STANDARD
BEGIN:DAYLIGHT
TZOFFSETFROM:+0100
TZOFFSETTO:+0200
TZNAME:CEST
DTSTART:20230326T010000
END:DAYLIGHT
BEGIN:STANDARD
TZOFFSETFROM:+0200
TZOFFSETTO:+0100
TZNAME:CET
DTSTART:20231029T010000
END:STANDARD
BEGIN:DAYLIGHT
TZOFFSETFROM:+0100
TZOFFSETTO:+0200
TZNAME:CEST
DTSTART:20240331T010000
END:DAYLIGHT
BEGIN:STANDARD
TZOFFSETFROM:+0200
TZOFFSETTO:+0100
TZNAME:CET
DTSTART:20241027T010000
END:STANDARD
BEGIN:DAYLIGHT
TZOFFSETFROM:+0100
TZOFFSETTO:+0200
TZNAME:CEST
DTSTART:20250330T010000
END:DAYLIGHT
BEGIN:STANDARD
TZOFFSETFROM:+0200
TZOFFSETTO:+0100
TZNAME:CET
DTSTART:20251026T010000
END:STANDARD
BEGIN:DAYLIGHT
TZOFFSETFROM:+0100
TZOFFSETTO:+0200
TZNAME:CEST
DTSTART:20260329T010000
END:DAYLIGHT
BEGIN:STANDARD
TZOFFSETFROM:+0200
TZOFFSETTO:+0100
TZNAME:CET
DTSTART:20261025T010000
END:STANDARD
BEGIN:DAYLIGHT
TZOFFSETFROM:+0100
TZOFFSETTO:+0200
TZNAME:CEST
DTSTART:20270328T010000
END:DAYLIGHT
BEGIN:STANDARD
TZOFFSETFROM:+0200
TZOFFSETTO:+0100
TZNAME:CET
DTSTART:20271031T010000
END:STANDARD
END:VTIMEZONE
BEGIN:VEVENT
DTSTART;TZID=Europe/Berlin:20260110T160000
DTEND;TZID=Europe/Berlin:20260110T173000
DTSTAMP:20260425T161508
CREATED:20260105T112838Z
LAST-MODIFIED:20260105T112838Z
UID:10011921-1768060800-1768066200@www.hsvbb.org
SUMMARY:Oberliga Brandenburg: mJA fährt zum HSG Ahrensdorf/Schenkenhorst
DESCRIPTION:
URL:https://www.hsvbb.org/veranstaltung/oberliga-brandenburg-mja-faehrt-zum-hsg-ahrensdorf-schenkenhorst/
LOCATION:3020 Sporthalle Ahrensdorf\, Alte Potsdamer Straße 18\, Ludwigsfelde-OT Ahrensdorf\, 14974
CATEGORIES:männliche Jugend A,Mannschaft
END:VEVENT
BEGIN:VEVENT
DTSTART;TZID=Europe/Berlin:20241012T181500
DTEND;TZID=Europe/Berlin:20241012T200000
DTSTAMP:20260425T161508
CREATED:20240908T083102Z
LAST-MODIFIED:20240908T083102Z
UID:10011639-1728756900-1728763200@www.hsvbb.org
SUMMARY:Oberliga: Männer 1 fahren zum HSG Ahrensdorf/Schenkenhorst
DESCRIPTION:1. Männer
URL:https://www.hsvbb.org/veranstaltung/oberliga-maenner-1-fahren-zum-hsg-ahrensdorf-schenkenhorst/
LOCATION:3020 Sporthalle Ahrensdorf\, Alte Potsdamer Straße 18\, Ludwigsfelde-OT Ahrensdorf\, 14974
CATEGORIES:Auswärtsspiel,Männer I
ATTACH;FMTTYPE=image/png:https://www.hsvbb.org/wp-content/uploads/2023/09/auswaerts.png
END:VEVENT
BEGIN:VEVENT
DTSTART;TZID=Europe/Berlin:20241012T160000
DTEND;TZID=Europe/Berlin:20241012T173000
DTSTAMP:20260425T161508
CREATED:20240908T125509Z
LAST-MODIFIED:20240908T125509Z
UID:10011673-1728748800-1728754200@www.hsvbb.org
SUMMARY:Verbandsliga: Frauen fahren zur HSG Ahrensdorf/Schenkenhorst
DESCRIPTION:1. Frauen
URL:https://www.hsvbb.org/veranstaltung/verbandsliga-frauen-fahren-zur-hsg-ahrensdorf-schenkenhorst/
LOCATION:3020 Sporthalle Ahrensdorf\, Alte Potsdamer Straße 18\, Ludwigsfelde-OT Ahrensdorf\, 14974
CATEGORIES:Auswärtsspiel,Frauen I
ATTACH;FMTTYPE=image/png:https://www.hsvbb.org/wp-content/uploads/2023/09/auswaerts.png
END:VEVENT
BEGIN:VEVENT
DTSTART;TZID=Europe/Berlin:20240406T160000
DTEND;TZID=Europe/Berlin:20240406T173000
DTSTAMP:20260425T161508
CREATED:20230907T154450Z
LAST-MODIFIED:20230907T154450Z
UID:10009111-1712419200-1712424600@www.hsvbb.org
SUMMARY:Verbandsliga: Frauen fahren zum HSG Ahrensdorf/Schenkenhorst
DESCRIPTION:1. Frauen
URL:https://www.hsvbb.org/veranstaltung/verbandsliga-frauen-fahren-zum-hsg-ahrensdorf-schenkenhorst/
LOCATION:3020 Sporthalle Ahrensdorf\, Alte Potsdamer Straße 18\, Ludwigsfelde-OT Ahrensdorf\, 14974
CATEGORIES:Auswärtsspiel,Frauen I
ATTACH;FMTTYPE=image/png:https://www.hsvbb.org/wp-content/uploads/2023/09/auswaerts.png
END:VEVENT
BEGIN:VEVENT
DTSTART;TZID=Europe/Berlin:20240309T150000
DTEND;TZID=Europe/Berlin:20240309T163000
DTSTAMP:20260425T161508
CREATED:20230910T094647Z
LAST-MODIFIED:20230910T094647Z
UID:10009148-1709996400-1710001800@www.hsvbb.org
SUMMARY:Brandenburgliga: wJA fährt zur HSG Ahrensdorf/Schenkenhorst
DESCRIPTION:A- Jugend weiblich – Brandenburgliga
URL:https://www.hsvbb.org/veranstaltung/brandenburgliga-wja-faehrt-zur-hsg-ahrensdorf-schenkenhorst-2/
LOCATION:3020 Sporthalle Ahrensdorf\, Alte Potsdamer Straße 18\, Ludwigsfelde-OT Ahrensdorf\, 14974
CATEGORIES:Auswärtsspiel,weibliche Jugend D
ATTACH;FMTTYPE=image/png:https://www.hsvbb.org/wp-content/uploads/2023/09/auswaerts.png
END:VEVENT
BEGIN:VEVENT
DTSTART;TZID=Europe/Berlin:20240302T160000
DTEND;TZID=Europe/Berlin:20240302T173000
DTSTAMP:20260425T161508
CREATED:20230907T143133Z
LAST-MODIFIED:20230907T143133Z
UID:10009089-1709395200-1709400600@www.hsvbb.org
SUMMARY:Brandenburgliga: mJB 1 fährt zum HSG Ahrensdorf/Schenkenhorst
DESCRIPTION:B-Jugend I – männlich – Brandenburgliga
URL:https://www.hsvbb.org/veranstaltung/brandenburgliga-mjb-1-faehrt-zum-hsg-ahrensdorf-schenkenhorst/
LOCATION:3020 Sporthalle Ahrensdorf\, Alte Potsdamer Straße 18\, Ludwigsfelde-OT Ahrensdorf\, 14974
CATEGORIES:Auswärtsspiel,männliche Jugend A
ATTACH;FMTTYPE=image/png:https://www.hsvbb.org/wp-content/uploads/2023/09/auswaerts.png
END:VEVENT
BEGIN:VEVENT
DTSTART;TZID=Europe/Berlin:20230909T180000
DTEND;TZID=Europe/Berlin:20230909T190000
DTSTAMP:20260425T161508
CREATED:20230905T145437Z
LAST-MODIFIED:20230906T081612Z
UID:10007939-1694282400-1694286000@www.hsvbb.org
SUMMARY:Pokal Frauen: Frauen 1 empfängt Sieger Runde 1
DESCRIPTION:
URL:https://www.hsvbb.org/veranstaltung/pokal-frauen-frauen-1-empfaengt-sieger-spiel-17-008/
LOCATION:3020 Sporthalle Ahrensdorf\, Alte Potsdamer Straße 18\, Ludwigsfelde-OT Ahrensdorf\, 14974
CATEGORIES:Auswärtsspiel,Frauen I
ATTACH;FMTTYPE=image/png:https://www.hsvbb.org/wp-content/uploads/2023/09/auswaerts.png
END:VEVENT
BEGIN:VEVENT
DTSTART;TZID=Europe/Berlin:20230909T163000
DTEND;TZID=Europe/Berlin:20230909T173000
DTSTAMP:20260425T161508
CREATED:20230905T145259Z
LAST-MODIFIED:20230906T081604Z
UID:10007938-1694277000-1694280600@www.hsvbb.org
SUMMARY:Pokal Frauen: Verlierer Runde 1 empfängt Frauen 1
DESCRIPTION:
URL:https://www.hsvbb.org/veranstaltung/pokal-frauen-verlierer-spiel-17-008-empfaengt-frauen-1/
LOCATION:3020 Sporthalle Ahrensdorf\, Alte Potsdamer Straße 18\, Ludwigsfelde-OT Ahrensdorf\, 14974
CATEGORIES:Auswärtsspiel,Frauen I
ATTACH;FMTTYPE=image/png:https://www.hsvbb.org/wp-content/uploads/2023/09/auswaerts.png
END:VEVENT
BEGIN:VEVENT
DTSTART;TZID=Europe/Berlin:20230909T150000
DTEND;TZID=Europe/Berlin:20230909T160000
DTSTAMP:20260425T161508
CREATED:20230905T145052Z
LAST-MODIFIED:20230905T161658Z
UID:10007937-1694271600-1694275200@www.hsvbb.org
SUMMARY:Pokal Frauen: HSG Ahrensdorf/Schenkenhorst empfängt HSV Falkensee 04
DESCRIPTION:Spiel 17008
URL:https://www.hsvbb.org/veranstaltung/pokal-frauen-hsg-ahrensdorf-schenkenhorst-empfaengt-hsv-falkensee-04/
LOCATION:3020 Sporthalle Ahrensdorf\, Alte Potsdamer Straße 18\, Ludwigsfelde-OT Ahrensdorf\, 14974
CATEGORIES:Auswärtsspiel,Frauen I
ATTACH;FMTTYPE=image/png:https://www.hsvbb.org/wp-content/uploads/2023/09/auswaerts.png
END:VEVENT
BEGIN:VEVENT
DTSTART;TZID=Europe/Berlin:20220116T140000
DTEND;TZID=Europe/Berlin:20220116T153000
DTSTAMP:20260425T161508
CREATED:20210920T195908Z
LAST-MODIFIED:20211223T192527Z
UID:10006758-1642341600-1642347000@www.hsvbb.org
SUMMARY:Frauen fahren zur HSG Ahrensdorf/Schenkenhorst 2
DESCRIPTION:
URL:https://www.hsvbb.org/veranstaltung/frauen-fahren-zur-hsg-ahrensdorf-schenkenhorst-2/
LOCATION:3020 Sporthalle Ahrensdorf\, Alte Potsdamer Straße 18\, Ludwigsfelde-OT Ahrensdorf\, 14974
CATEGORIES:Auswärtsspiel,Frauen I
END:VEVENT
END:VCALENDAR