BEGIN:VCALENDAR
VERSION:2.0
PRODID:-//HSV Bernauer Bären e.V. - ECPv6.15.13//NONSGML v1.0//EN
CALSCALE:GREGORIAN
METHOD:PUBLISH
X-ORIGINAL-URL:https://www.hsvbb.org
X-WR-CALDESC:Veranstaltungen für HSV Bernauer Bären e.V.
REFRESH-INTERVAL;VALUE=DURATION:PT1H
X-Robots-Tag:noindex
X-PUBLISHED-TTL:PT1H
BEGIN:VTIMEZONE
TZID:Europe/Berlin
BEGIN:DAYLIGHT
TZOFFSETFROM:+0100
TZOFFSETTO:+0200
TZNAME:CEST
DTSTART:20250330T010000
END:DAYLIGHT
BEGIN:STANDARD
TZOFFSETFROM:+0200
TZOFFSETTO:+0100
TZNAME:CET
DTSTART:20251026T010000
END:STANDARD
BEGIN:DAYLIGHT
TZOFFSETFROM:+0100
TZOFFSETTO:+0200
TZNAME:CEST
DTSTART:20260329T010000
END:DAYLIGHT
BEGIN:STANDARD
TZOFFSETFROM:+0200
TZOFFSETTO:+0100
TZNAME:CET
DTSTART:20261025T010000
END:STANDARD
BEGIN:DAYLIGHT
TZOFFSETFROM:+0100
TZOFFSETTO:+0200
TZNAME:CEST
DTSTART:20270328T010000
END:DAYLIGHT
BEGIN:STANDARD
TZOFFSETFROM:+0200
TZOFFSETTO:+0100
TZNAME:CET
DTSTART:20271031T010000
END:STANDARD
END:VTIMEZONE
BEGIN:VEVENT
DTSTART;TZID=Europe/Berlin:20260110T100000
DTEND;TZID=Europe/Berlin:20260110T110000
DTSTAMP:20260421T000302
CREATED:20260105T110902Z
LAST-MODIFIED:20260105T110902Z
UID:10011912-1768039200-1768042800@www.hsvbb.org
SUMMARY:Kreisoberliga: mJE empfängt SV Rot-Weiß Werneuchen
DESCRIPTION:
URL:https://www.hsvbb.org/veranstaltung/kreisoberliga-mje-empfaengt-sv-rot-weiss-werneuchen/
LOCATION:Erich-Wünsch-Halle (1440)\, Heinersdorfer Str. 52\, Bernau\, 16321\, Deutschland
CATEGORIES:gemischte Jugend E I,Heimspiel,Mannschaft,Spiel
END:VEVENT
BEGIN:VEVENT
DTSTART;TZID=Europe/Berlin:20260110T100000
DTEND;TZID=Europe/Berlin:20260110T200000
DTSTAMP:20260421T000302
CREATED:20260105T112358Z
LAST-MODIFIED:20260105T112359Z
UID:10011918-1768039200-1768075200@www.hsvbb.org
SUMMARY:12. Heimspieltag
DESCRIPTION:Kreisoberliga: mJE empfängt SV Rot-Weiß Werneuchen \n\n\nKreisoberliga: mJD empfängt SV Rot-Weiß Werneuchen \n\n\nOberliga Brandenburg: mJC empfängt Lausitzer HC Cottbus II \n\n\nOberliga Brandenburg: mJB empfängt	Ludwigsfelder HC \n\n\nOberliga Brandenburg: 1. Männer empfangen HSG RSV Teltow/Ruhlsdorf \n\n\nVerbandsliga: 2. Männer empfangen Grünheider SV II \n\n 
URL:https://www.hsvbb.org/veranstaltung/12-heimspieltag-4/
LOCATION:Erich-Wünsch-Halle (1440)\, Heinersdorfer Str. 52\, Bernau\, 16321\, Deutschland
CATEGORIES:Heimspiel,Highlight,Männer I,Mannschaft,Spiel
ATTACH;FMTTYPE=image/png:https://www.hsvbb.org/wp-content/uploads/2026/01/12.Heimspiel.png
END:VEVENT
BEGIN:VEVENT
DTSTART;TZID=Europe/Berlin:20260110T113500
DTEND;TZID=Europe/Berlin:20260110T123000
DTSTAMP:20260421T000302
CREATED:20260105T111013Z
LAST-MODIFIED:20260105T111013Z
UID:10011913-1768044900-1768048200@www.hsvbb.org
SUMMARY:Kreisoberliga: mJD empfängt SV Rot-Weiß Werneuchen
DESCRIPTION:
URL:https://www.hsvbb.org/veranstaltung/kreisoberliga-mjd-empfaengt-sv-rot-weiss-werneuchen/
LOCATION:Erich-Wünsch-Halle (1440)\, Heinersdorfer Str. 52\, Bernau\, 16321\, Deutschland
CATEGORIES:Heimspiel,männliche Jugend D I,Mannschaft,Spiel
END:VEVENT
BEGIN:VEVENT
DTSTART;TZID=Europe/Berlin:20260110T120000
DTEND;TZID=Europe/Berlin:20260110T130000
DTSTAMP:20260421T000302
CREATED:20260105T112651Z
LAST-MODIFIED:20260105T112651Z
UID:10011919-1768046400-1768050000@www.hsvbb.org
SUMMARY:Kreisoberliga: wJE fährt zum SV Fortuna Prenzlau
DESCRIPTION:
URL:https://www.hsvbb.org/veranstaltung/kreisoberliga-wje-faehrt-zum-sv-fortuna-prenzlau/
LOCATION:1002 Dreifelder-Halle der Oberschule „Carl Friedrich Grabow“\, Berliner Straße 29\, Prenzlau\, 17291
CATEGORIES:Auswärtsspiel,Mannschaft,Spiel,weibliche E-Jugend
END:VEVENT
BEGIN:VEVENT
DTSTART;TZID=Europe/Berlin:20260110T131000
DTEND;TZID=Europe/Berlin:20260110T140000
DTSTAMP:20260421T000302
CREATED:20260105T111132Z
LAST-MODIFIED:20260105T111132Z
UID:10011914-1768050600-1768053600@www.hsvbb.org
SUMMARY:Oberliga Brandenburg: mJC empfängt Lausitzer HC Cottbus II
DESCRIPTION:
URL:https://www.hsvbb.org/veranstaltung/oberliga-brandenburg-mjc-empfaengt-lausitzer-hc-cottbus-ii/
LOCATION:Erich-Wünsch-Halle (1440)\, Heinersdorfer Str. 52\, Bernau\, 16321\, Deutschland
CATEGORIES:Heimspiel,männliche Jugend C,Mannschaft,Spiel
END:VEVENT
BEGIN:VEVENT
DTSTART;TZID=Europe/Berlin:20260110T140000
DTEND;TZID=Europe/Berlin:20260110T150000
DTSTAMP:20260421T000302
CREATED:20260105T112748Z
LAST-MODIFIED:20260105T112748Z
UID:10011920-1768053600-1768057200@www.hsvbb.org
SUMMARY:Kreisliga: wJC fährt zum TSG Liebenwalde
DESCRIPTION:
URL:https://www.hsvbb.org/veranstaltung/kreisliga-wjc-faehrt-zum-tsg-liebenwalde/
LOCATION:1420 Weinberghalle\, Zehdenicker Straße 30\, Liebenwalde\, 16559
CATEGORIES:Auswärtsspiel,Mannschaft,Spiel,weibliche Jugend C
END:VEVENT
BEGIN:VEVENT
DTSTART;TZID=Europe/Berlin:20260110T150000
DTEND;TZID=Europe/Berlin:20260110T160000
DTSTAMP:20260421T000302
CREATED:20260105T111757Z
LAST-MODIFIED:20260105T111757Z
UID:10011915-1768057200-1768060800@www.hsvbb.org
SUMMARY:Oberliga Brandenburg: mJB empfängt	Ludwigsfelder HC
DESCRIPTION:
URL:https://www.hsvbb.org/veranstaltung/oberliga-brandenburg-mjb-empfaengtludwigsfelder-hc/
LOCATION:Erich-Wünsch-Halle (1440)\, Heinersdorfer Str. 52\, Bernau\, 16321\, Deutschland
CATEGORIES:Heimspiel,männliche Jugend B,Mannschaft,Spiel
END:VEVENT
BEGIN:VEVENT
DTSTART;TZID=Europe/Berlin:20260110T160000
DTEND;TZID=Europe/Berlin:20260110T173000
DTSTAMP:20260421T000302
CREATED:20260105T112838Z
LAST-MODIFIED:20260105T112838Z
UID:10011921-1768060800-1768066200@www.hsvbb.org
SUMMARY:Oberliga Brandenburg: mJA fährt zum HSG Ahrensdorf/Schenkenhorst
DESCRIPTION:
URL:https://www.hsvbb.org/veranstaltung/oberliga-brandenburg-mja-faehrt-zum-hsg-ahrensdorf-schenkenhorst/
LOCATION:3020 Sporthalle Ahrensdorf\, Alte Potsdamer Straße 18\, Ludwigsfelde-OT Ahrensdorf\, 14974
CATEGORIES:männliche Jugend A,Mannschaft
END:VEVENT
BEGIN:VEVENT
DTSTART;TZID=Europe/Berlin:20260110T170000
DTEND;TZID=Europe/Berlin:20260110T183000
DTSTAMP:20260421T000302
CREATED:20260105T111907Z
LAST-MODIFIED:20260105T112435Z
UID:10011916-1768064400-1768069800@www.hsvbb.org
SUMMARY:Oberliga Brandenburg: 1. Männer empfangen HSG RSV Teltow/Ruhlsdorf
DESCRIPTION:
URL:https://www.hsvbb.org/veranstaltung/oberliga-brandenburg-1-maenner-empfangen-hsg-rsv-teltow-ruhlsdorf/
LOCATION:Erich-Wünsch-Halle (1440)\, Heinersdorfer Str. 52\, Bernau\, 16321\, Deutschland
CATEGORIES:Heimspiel,Männer I,Mannschaft,Spiel
END:VEVENT
BEGIN:VEVENT
DTSTART;TZID=Europe/Berlin:20260110T190000
DTEND;TZID=Europe/Berlin:20260110T200000
DTSTAMP:20260421T000302
CREATED:20260105T112011Z
LAST-MODIFIED:20260105T112011Z
UID:10011917-1768071600-1768075200@www.hsvbb.org
SUMMARY:Verbandsliga: 2. Männer empfangen Grünheider SV II
DESCRIPTION:
URL:https://www.hsvbb.org/veranstaltung/verbandsliga-2-maenner-empfangen-gruenheider-sv-ii/
LOCATION:Erich-Wünsch-Halle (1440)\, Heinersdorfer Str. 52\, Bernau\, 16321\, Deutschland
CATEGORIES:Heimspiel,Männer II,Mannschaft,Spiel
END:VEVENT
BEGIN:VEVENT
DTSTART;TZID=Europe/Berlin:20260111T134500
DTEND;TZID=Europe/Berlin:20260111T150000
DTSTAMP:20260421T000302
CREATED:20260105T113104Z
LAST-MODIFIED:20260105T113104Z
UID:10011922-1768139100-1768143600@www.hsvbb.org
SUMMARY:Verbandsliga: 1. Frauen fährt zum SV Blau-Weiß Dahlewitz
DESCRIPTION:
URL:https://www.hsvbb.org/veranstaltung/verbandsliga-1-frauen-faehrt-zum-sv-blau-weiss-dahlewitz/
LOCATION:3125 Sporthalle an der Oberschule\, Bahnhofstraße 63\, Dahlewitz\, Brandenburg\, 15827\, Deutschland
CATEGORIES:Auswärtsspiel,Frauen I,Mannschaft,Spiel
END:VEVENT
END:VCALENDAR