BEGIN:VCALENDAR
VERSION:2.0
PRODID:-//HSV Bernauer Bären e.V. - ECPv6.15.13//NONSGML v1.0//EN
CALSCALE:GREGORIAN
METHOD:PUBLISH
X-WR-CALNAME:HSV Bernauer Bären e.V.
X-ORIGINAL-URL:https://www.hsvbb.org
X-WR-CALDESC:Veranstaltungen für HSV Bernauer Bären e.V.
REFRESH-INTERVAL;VALUE=DURATION:PT1H
X-Robots-Tag:noindex
X-PUBLISHED-TTL:PT1H
BEGIN:VTIMEZONE
TZID:Europe/Berlin
BEGIN:DAYLIGHT
TZOFFSETFROM:+0100
TZOFFSETTO:+0200
TZNAME:CEST
DTSTART:20250330T010000
END:DAYLIGHT
BEGIN:STANDARD
TZOFFSETFROM:+0200
TZOFFSETTO:+0100
TZNAME:CET
DTSTART:20251026T010000
END:STANDARD
BEGIN:DAYLIGHT
TZOFFSETFROM:+0100
TZOFFSETTO:+0200
TZNAME:CEST
DTSTART:20260329T010000
END:DAYLIGHT
BEGIN:STANDARD
TZOFFSETFROM:+0200
TZOFFSETTO:+0100
TZNAME:CET
DTSTART:20261025T010000
END:STANDARD
BEGIN:DAYLIGHT
TZOFFSETFROM:+0100
TZOFFSETTO:+0200
TZNAME:CEST
DTSTART:20270328T010000
END:DAYLIGHT
BEGIN:STANDARD
TZOFFSETFROM:+0200
TZOFFSETTO:+0100
TZNAME:CET
DTSTART:20271031T010000
END:STANDARD
END:VTIMEZONE
BEGIN:VEVENT
DTSTART;TZID=Europe/Berlin:20260103T080000
DTEND;TZID=Europe/Berlin:20260103T183000
DTSTAMP:20260420T221115
CREATED:20251228T131123Z
LAST-MODIFIED:20251228T131132Z
UID:10011911-1767427200-1767465000@www.hsvbb.org
SUMMARY:11. Heimspieltag
DESCRIPTION:1. Bären Cup 2026 \n\n\nOberliga Brandenburg: 1. Männer empfangen HC Bad Liebenwerda \n\n 
URL:https://www.hsvbb.org/veranstaltung/11-heimspieltag-4/
LOCATION:Sporthalle am Wasserturm (1430)\, Schönower Chaussee 2\, Bernau\, 16321\, Deutschland
CATEGORIES:Männer I,Mannschaft
END:VEVENT
BEGIN:VEVENT
DTSTART;TZID=Europe/Berlin:20260103T090000
DTEND;TZID=Europe/Berlin:20260103T150000
DTSTAMP:20260420T221115
CREATED:20251228T130523Z
LAST-MODIFIED:20251228T130546Z
UID:10011910-1767430800-1767452400@www.hsvbb.org
SUMMARY:1. Bären Cup 2026
DESCRIPTION:mit dabei: HSV Bernauer Bären 1 & 2\, 1. SV Eberswalde\, Oranienburger HC\, 1. VFL Potsdam 2\, SG Rotation Prenzlauer Berg \nEin Turnier der männlichen D-Jugend. \n 
URL:https://www.hsvbb.org/veranstaltung/1-baeren-cup-2026/
LOCATION:Sporthalle am Wasserturm (1430)\, Schönower Chaussee 2\, Bernau\, 16321\, Deutschland
CATEGORIES:Bären Cup,Highlight,männliche Jugend D I,männliche Jugend D II,Mannschaft
ATTACH;FMTTYPE=image/png:https://www.hsvbb.org/wp-content/uploads/2025/12/16zu9_01.-Baerencup.png
END:VEVENT
BEGIN:VEVENT
DTSTART;TZID=Europe/Berlin:20260103T160000
DTEND;TZID=Europe/Berlin:20260103T183000
DTSTAMP:20260420T221115
CREATED:20251228T130245Z
LAST-MODIFIED:20251228T130245Z
UID:10011909-1767456000-1767465000@www.hsvbb.org
SUMMARY:Oberliga Brandenburg: 1. Männer empfangen HC Bad Liebenwerda
DESCRIPTION:
URL:https://www.hsvbb.org/veranstaltung/oberliga-brandenburg-1-maenner-empfangen-hc-bad-liebenwerda/
LOCATION:Sporthalle am Wasserturm (1430)\, Schönower Chaussee 2\, Bernau\, 16321\, Deutschland
CATEGORIES:Heimspiel,Highlight,Männer I,Mannschaft,Spiel
END:VEVENT
END:VCALENDAR