BEGIN:VCALENDAR
VERSION:2.0
PRODID:-//HSV Bernauer Bären e.V. - ECPv6.15.13//NONSGML v1.0//EN
CALSCALE:GREGORIAN
METHOD:PUBLISH
X-WR-CALNAME:HSV Bernauer Bären e.V.
X-ORIGINAL-URL:https://www.hsvbb.org
X-WR-CALDESC:Veranstaltungen für HSV Bernauer Bären e.V.
REFRESH-INTERVAL;VALUE=DURATION:PT1H
X-Robots-Tag:noindex
X-PUBLISHED-TTL:PT1H
BEGIN:VTIMEZONE
TZID:Europe/Berlin
BEGIN:DAYLIGHT
TZOFFSETFROM:+0100
TZOFFSETTO:+0200
TZNAME:CEST
DTSTART:20240331T010000
END:DAYLIGHT
BEGIN:STANDARD
TZOFFSETFROM:+0200
TZOFFSETTO:+0100
TZNAME:CET
DTSTART:20241027T010000
END:STANDARD
BEGIN:DAYLIGHT
TZOFFSETFROM:+0100
TZOFFSETTO:+0200
TZNAME:CEST
DTSTART:20250330T010000
END:DAYLIGHT
BEGIN:STANDARD
TZOFFSETFROM:+0200
TZOFFSETTO:+0100
TZNAME:CET
DTSTART:20251026T010000
END:STANDARD
BEGIN:DAYLIGHT
TZOFFSETFROM:+0100
TZOFFSETTO:+0200
TZNAME:CEST
DTSTART:20260329T010000
END:DAYLIGHT
BEGIN:STANDARD
TZOFFSETFROM:+0200
TZOFFSETTO:+0100
TZNAME:CET
DTSTART:20261025T010000
END:STANDARD
END:VTIMEZONE
BEGIN:VEVENT
DTSTART;TZID=Europe/Berlin:20251206T100000
DTEND;TZID=Europe/Berlin:20251206T110000
DTSTAMP:20260421T071743
CREATED:20251202T170215Z
LAST-MODIFIED:20251202T170215Z
UID:10011898-1765015200-1765018800@www.hsvbb.org
SUMMARY:Kreisoberliga: mJE fährt zum 1. SV Eberswalde
DESCRIPTION:
URL:https://www.hsvbb.org/veranstaltung/kreisoberliga-mje-faehrt-zum-1-sv-eberswalde/
LOCATION:1301 Sportzentrum Westend\, Heegemühler Straße 64\, Eberswalde\, 16225
CATEGORIES:Auswärtsspiel,gemischte Jugend E I,Mannschaft,Spiel
END:VEVENT
BEGIN:VEVENT
DTSTART;TZID=Europe/Berlin:20251206T100000
DTEND;TZID=Europe/Berlin:20251206T200000
DTSTAMP:20260421T071743
CREATED:20251202T165045Z
LAST-MODIFIED:20251202T165115Z
UID:10011892-1765015200-1765051200@www.hsvbb.org
SUMMARY:09. Heimspieltag
DESCRIPTION:Kreisoberliga: wJE empfängt Finowfurter SV \n\n\nKreisliga: wJC empfängt Templiner SV Lok 1951 \n\n\nOberliga Brandenburg: 1. Männer empfangen MTV 1860 Altlandsberg \n\n\nVerbandsliga: 2. Männer empfangen SV Berolina Lychen \n\n 
URL:https://www.hsvbb.org/veranstaltung/09-heimspieltag/
LOCATION:Erich-Wünsch-Halle (1440)\, Heinersdorfer Str. 52\, Bernau\, 16321\, Deutschland
CATEGORIES:Heimspiel,Männer II,Mannschaft,Spiel
ATTACH;FMTTYPE=image/png:https://www.hsvbb.org/wp-content/uploads/2025/12/09.Heimspiel_Absage.png
END:VEVENT
BEGIN:VEVENT
DTSTART;TZID=Europe/Berlin:20251206T104500
DTEND;TZID=Europe/Berlin:20251206T114500
DTSTAMP:20260421T071743
CREATED:20251202T164418Z
LAST-MODIFIED:20251202T164435Z
UID:10011888-1765017900-1765021500@www.hsvbb.org
SUMMARY:Kreisoberliga: wJE empfängt Finowfurter SV
DESCRIPTION:
URL:https://www.hsvbb.org/veranstaltung/kreisoberliga-wjeh-empfangen-finowfurter-sv/
LOCATION:Erich-Wünsch-Halle (1440)\, Heinersdorfer Str. 52\, Bernau\, 16321\, Deutschland
CATEGORIES:Heimspiel,Mannschaft,Spiel,weibliche E-Jugend
END:VEVENT
BEGIN:VEVENT
DTSTART;TZID=Europe/Berlin:20251206T114000
DTEND;TZID=Europe/Berlin:20251206T130000
DTSTAMP:20260421T071743
CREATED:20251202T170431Z
LAST-MODIFIED:20251202T170444Z
UID:10011899-1765021200-1765026000@www.hsvbb.org
SUMMARY:Kreisliga: mJD II fährt zum 1. SV Eberswalde
DESCRIPTION:
URL:https://www.hsvbb.org/veranstaltung/kreisliga-mjd-faehrt-zum-1-sv-eberswalde/
LOCATION:1301 Sportzentrum Westend\, Heegemühler Straße 64\, Eberswalde\, 16225
CATEGORIES:Auswärtsspiel,männliche Jugend D II,Mannschaft,Spiel
END:VEVENT
BEGIN:VEVENT
DTSTART;TZID=Europe/Berlin:20251206T120000
DTEND;TZID=Europe/Berlin:20251206T130000
DTSTAMP:20260421T071743
CREATED:20251202T170540Z
LAST-MODIFIED:20251202T170540Z
UID:10011900-1765022400-1765026000@www.hsvbb.org
SUMMARY:Kreisoberliga: mJE II fährt zum SV Fortuna Prenzlau
DESCRIPTION:
URL:https://www.hsvbb.org/veranstaltung/kreisoberliga-mje-ii-faehrt-zum-sv-fortuna-prenzlau/
LOCATION:1002 Dreifelder-Halle der Oberschule „Carl Friedrich Grabow“\, Berliner Straße 29\, Prenzlau\, 17291
CATEGORIES:Auswärtsspiel,gemischte Jugend E II,Mannschaft,Spiel
END:VEVENT
BEGIN:VEVENT
DTSTART;TZID=Europe/Berlin:20251206T123000
DTEND;TZID=Europe/Berlin:20251206T133000
DTSTAMP:20260421T071743
CREATED:20251202T164551Z
LAST-MODIFIED:20251202T164551Z
UID:10011889-1765024200-1765027800@www.hsvbb.org
SUMMARY:Kreisliga: wJC empfängt Templiner SV Lok 1951
DESCRIPTION:
URL:https://www.hsvbb.org/veranstaltung/kreisliga-wjc-empfaengt-templiner-sv-lok-1951/
LOCATION:Erich-Wünsch-Halle (1440)\, Heinersdorfer Str. 52\, Bernau\, 16321\, Deutschland
CATEGORIES:Heimspiel,Mannschaft,Spiel,weibliche Jugend C
END:VEVENT
BEGIN:VEVENT
DTSTART;TZID=Europe/Berlin:20251206T124500
DTEND;TZID=Europe/Berlin:20251206T140000
DTSTAMP:20260421T071743
CREATED:20251202T170636Z
LAST-MODIFIED:20251202T170636Z
UID:10011901-1765025100-1765029600@www.hsvbb.org
SUMMARY:Kreisoberliga: mJD fährt zum Oranienburger HC II
DESCRIPTION:
URL:https://www.hsvbb.org/veranstaltung/kreisoberliga-mjd-faehrt-zum-oranienburger-hc-ii/
LOCATION:1407 HBI Sportforum\, Andre`Pican Straße 42\, Orannienburg\, 16515\, Deutschland
CATEGORIES:Auswärtsspiel,männliche Jugend D I,Mannschaft,Spiel
END:VEVENT
BEGIN:VEVENT
DTSTART;TZID=Europe/Berlin:20251206T140000
DTEND;TZID=Europe/Berlin:20251206T160000
DTSTAMP:20260421T071743
CREATED:20251202T170808Z
LAST-MODIFIED:20251202T170808Z
UID:10011902-1765029600-1765036800@www.hsvbb.org
SUMMARY:Verbandsliga: 1. Frauen fahren zum Neuenhagener HC
DESCRIPTION:
URL:https://www.hsvbb.org/veranstaltung/verbandsliga-1-frauen-fahren-zum-neuenhagener-hc/
LOCATION:1514 Sporthalle Bollensdorf\, Dorfstraße 5\, Neuenhagen\, 15366\, Deutschland
CATEGORIES:Auswärtsspiel,Frauen I,Mannschaft,Spiel
END:VEVENT
BEGIN:VEVENT
DTSTART;TZID=Europe/Berlin:20251206T153000
DTEND;TZID=Europe/Berlin:20251206T170000
DTSTAMP:20260421T071743
CREATED:20251202T170859Z
LAST-MODIFIED:20251202T170859Z
UID:10011903-1765035000-1765040400@www.hsvbb.org
SUMMARY:Oberliga Brandenburg: mJA fährt zum SV Blau-Weiß Wusterwitz
DESCRIPTION:
URL:https://www.hsvbb.org/veranstaltung/oberliga-brandenburg-mja-faehrt-zum-sv-blau-weiss-wusterwitz/
LOCATION:4710 Sporthalle Wusterwitz\, Ernst-Thälmann-Straße 58\, Wusterwitz\, 14789\, Deutschland
CATEGORIES:Auswärtsspiel,männliche Jugend A,Mannschaft,Spiel
END:VEVENT
BEGIN:VEVENT
DTSTART;TZID=Europe/Berlin:20251206T163000
DTEND;TZID=Europe/Berlin:20251206T180000
DTSTAMP:20260421T071743
CREATED:20251202T164648Z
LAST-MODIFIED:20251202T164711Z
UID:10011890-1765038600-1765044000@www.hsvbb.org
SUMMARY:Oberliga Brandenburg: 1. Männer empfangen MTV 1860 Altlandsberg
DESCRIPTION:
URL:https://www.hsvbb.org/veranstaltung/oberliga-brandenburg-1-maenner-empfangen-mtv-1860-altlandsberg/
LOCATION:Erich-Wünsch-Halle (1440)\, Heinersdorfer Str. 52\, Bernau\, 16321\, Deutschland
CATEGORIES:Heimspiel,Männer I,Mannschaft,Spiel
END:VEVENT
BEGIN:VEVENT
DTSTART;TZID=Europe/Berlin:20251206T184500
DTEND;TZID=Europe/Berlin:20251206T200000
DTSTAMP:20260421T071743
CREATED:20251202T164804Z
LAST-MODIFIED:20251202T164804Z
UID:10011891-1765046700-1765051200@www.hsvbb.org
SUMMARY:Verbandsliga: 2. Männer empfangen SV Berolina Lychen
DESCRIPTION:
URL:https://www.hsvbb.org/veranstaltung/verbandsliga-2-maenner-empfangen-sv-berolina-lychen/
LOCATION:Erich-Wünsch-Halle (1440)\, Heinersdorfer Str. 52\, Bernau\, 16321\, Deutschland
CATEGORIES:Heimspiel,Männer II,Mannschaft,Spiel
END:VEVENT
BEGIN:VEVENT
DTSTART;TZID=Europe/Berlin:20251207T110000
DTEND;TZID=Europe/Berlin:20251207T123000
DTSTAMP:20260421T071743
CREATED:20251202T171024Z
LAST-MODIFIED:20251202T171024Z
UID:10011904-1765105200-1765110600@www.hsvbb.org
SUMMARY:Kreisoberliga: Ü40 Männer fährt zum SV Berolina Lychen
DESCRIPTION:
URL:https://www.hsvbb.org/veranstaltung/kreisoberliga-ue40-maenner-faehrt-zum-sv-berolina-lychen/
LOCATION:1200 Sporthalle Lychen\, Pannwitzallee 1\, Lychen\, 17279
CATEGORIES:Auswärtsspiel,Mannschaft,Spiel,Ü40
END:VEVENT
END:VCALENDAR