BEGIN:VCALENDAR
VERSION:2.0
PRODID:-//HSV Bernauer Bären e.V. - ECPv6.15.13//NONSGML v1.0//EN
CALSCALE:GREGORIAN
METHOD:PUBLISH
X-ORIGINAL-URL:https://www.hsvbb.org
X-WR-CALDESC:Veranstaltungen für HSV Bernauer Bären e.V.
REFRESH-INTERVAL;VALUE=DURATION:PT1H
X-Robots-Tag:noindex
X-PUBLISHED-TTL:PT1H
BEGIN:VTIMEZONE
TZID:Europe/Berlin
BEGIN:DAYLIGHT
TZOFFSETFROM:+0100
TZOFFSETTO:+0200
TZNAME:CEST
DTSTART:20240331T010000
END:DAYLIGHT
BEGIN:STANDARD
TZOFFSETFROM:+0200
TZOFFSETTO:+0100
TZNAME:CET
DTSTART:20241027T010000
END:STANDARD
BEGIN:DAYLIGHT
TZOFFSETFROM:+0100
TZOFFSETTO:+0200
TZNAME:CEST
DTSTART:20250330T010000
END:DAYLIGHT
BEGIN:STANDARD
TZOFFSETFROM:+0200
TZOFFSETTO:+0100
TZNAME:CET
DTSTART:20251026T010000
END:STANDARD
BEGIN:DAYLIGHT
TZOFFSETFROM:+0100
TZOFFSETTO:+0200
TZNAME:CEST
DTSTART:20260329T010000
END:DAYLIGHT
BEGIN:STANDARD
TZOFFSETFROM:+0200
TZOFFSETTO:+0100
TZNAME:CET
DTSTART:20261025T010000
END:STANDARD
END:VTIMEZONE
BEGIN:VEVENT
DTSTART;TZID=Europe/Berlin:20251011T090000
DTEND;TZID=Europe/Berlin:20251011T200000
DTSTAMP:20260425T144410
CREATED:20250828T143743Z
LAST-MODIFIED:20251005T124535Z
UID:10011827-1760173200-1760212800@www.hsvbb.org
SUMMARY:4. Heimspieltag
DESCRIPTION:Kreisoberliga: wJE empfängt SV Berolina Lychen \n\n\nKreisoberliga: mJE 2 empfängt TSG Liebenwalde \n\n\nKreisliga: mJD 2 empfängt Schwarz-Weiss Zepernick 09 \n\n\nKreisoberliga: mJD empfängt 1. SV Eberswalde \n\n\nKreisliga: wJC empfängt SV Motor Hennigsdorf \n\n\nHVB-Pokal Achtelfinale: 1. Männer empfangen HV Grün-Weiß Werder \n\n 
URL:https://www.hsvbb.org/veranstaltung/4-heimspieltag-5/
LOCATION:Erich-Wünsch-Halle (1440)\, Heinersdorfer Str. 52\, Bernau\, 16321\, Deutschland
CATEGORIES:Highlight,männliche Jugend D I,Mannschaft
ATTACH;FMTTYPE=image/png:https://www.hsvbb.org/wp-content/uploads/2025/10/04.-Heimspiel.png
END:VEVENT
BEGIN:VEVENT
DTSTART;TZID=Europe/Berlin:20251011T100000
DTEND;TZID=Europe/Berlin:20251011T110000
DTSTAMP:20260425T144410
CREATED:20250828T142938Z
LAST-MODIFIED:20250828T142938Z
UID:10011822-1760176800-1760180400@www.hsvbb.org
SUMMARY:Kreisoberliga: wJE empfängt SV Berolina Lychen
DESCRIPTION:
URL:https://www.hsvbb.org/veranstaltung/kreisoberliga-wje-empfaengt-sv-berolina-lychen/
LOCATION:Erich-Wünsch-Halle (1440)\, Heinersdorfer Str. 52\, Bernau\, 16321\, Deutschland
END:VEVENT
BEGIN:VEVENT
DTSTART;TZID=Europe/Berlin:20251011T113500
DTEND;TZID=Europe/Berlin:20251011T123000
DTSTAMP:20260425T144410
CREATED:20250828T143102Z
LAST-MODIFIED:20250828T143102Z
UID:10011823-1760182500-1760185800@www.hsvbb.org
SUMMARY:Kreisoberliga: mJE 2 empfängt TSG Liebenwalde
DESCRIPTION:
URL:https://www.hsvbb.org/veranstaltung/kreisoberliga-mje-2-empfaengt-tsg-liebenwalde/
LOCATION:Erich-Wünsch-Halle (1440)\, Heinersdorfer Str. 52\, Bernau\, 16321\, Deutschland
CATEGORIES:gemischte Jugend E II,Mannschaft
END:VEVENT
BEGIN:VEVENT
DTSTART;TZID=Europe/Berlin:20251011T131000
DTEND;TZID=Europe/Berlin:20251011T140000
DTSTAMP:20260425T144410
CREATED:20250828T143248Z
LAST-MODIFIED:20250828T143248Z
UID:10011824-1760188200-1760191200@www.hsvbb.org
SUMMARY:Kreisliga: mJD 2 empfängt Schwarz-Weiss Zepernick 09
DESCRIPTION:
URL:https://www.hsvbb.org/veranstaltung/kreisliga-mjd-2-empfaengt-schwarz-weiss-zepernick-09/
LOCATION:Erich-Wünsch-Halle (1440)\, Heinersdorfer Str. 52\, Bernau\, 16321\, Deutschland
CATEGORIES:männliche Jugend D II,Mannschaft
END:VEVENT
BEGIN:VEVENT
DTSTART;TZID=Europe/Berlin:20251011T140000
DTEND;TZID=Europe/Berlin:20251011T153000
DTSTAMP:20260425T144410
CREATED:20250924T153645Z
LAST-MODIFIED:20250924T153645Z
UID:10011840-1760191200-1760196600@www.hsvbb.org
SUMMARY:Oberliga Brandenburg: mJB fährt zur OSG Fredersdorf-Vogelsdorf
DESCRIPTION:
URL:https://www.hsvbb.org/veranstaltung/oberliga-brandenburg-mjb-faehrt-zur-osg-fredersdorf-vogelsdorf/
LOCATION:1510 Sporthalle Tieckstraße\, Tieckstraße 38-39\, Fredersdorf\, 15370
CATEGORIES:männliche Jugend B,Mannschaft
END:VEVENT
BEGIN:VEVENT
DTSTART;TZID=Europe/Berlin:20251011T144500
DTEND;TZID=Europe/Berlin:20251011T154500
DTSTAMP:20260425T144410
CREATED:20250828T143400Z
LAST-MODIFIED:20250828T143400Z
UID:10011825-1760193900-1760197500@www.hsvbb.org
SUMMARY:Kreisoberliga: mJD empfängt 1. SV Eberswalde
DESCRIPTION:
URL:https://www.hsvbb.org/veranstaltung/kreisoberliga-mjd-empfaengt-1-sv-eberswalde/
LOCATION:Erich-Wünsch-Halle (1440)\, Heinersdorfer Str. 52\, Bernau\, 16321\, Deutschland
CATEGORIES:männliche Jugend D I,Mannschaft
END:VEVENT
BEGIN:VEVENT
DTSTART;TZID=Europe/Berlin:20251011T163000
DTEND;TZID=Europe/Berlin:20251011T173000
DTSTAMP:20260425T144410
CREATED:20250828T143456Z
LAST-MODIFIED:20250828T143456Z
UID:10011826-1760200200-1760203800@www.hsvbb.org
SUMMARY:Kreisliga: wJC empfängt SV Motor Hennigsdorf
DESCRIPTION:
URL:https://www.hsvbb.org/veranstaltung/kreisliga-wjc-empfaengt-sv-motor-hennigsdorf/
LOCATION:Erich-Wünsch-Halle (1440)\, Heinersdorfer Str. 52\, Bernau\, 16321\, Deutschland
END:VEVENT
BEGIN:VEVENT
DTSTART;TZID=Europe/Berlin:20251011T183000
DTEND;TZID=Europe/Berlin:20251011T200000
DTSTAMP:20260425T144410
CREATED:20251003T112600Z
LAST-MODIFIED:20251003T112600Z
UID:10011854-1760207400-1760212800@www.hsvbb.org
SUMMARY:HVB-Pokal Achtelfinale: 1. Männer empfangen HV Grün-Weiß Werder
DESCRIPTION:
URL:https://www.hsvbb.org/veranstaltung/hvb-pokal-achtelfinale-1-maenner-empfangen-hv-gruen-weiss-werder/
LOCATION:Erich-Wünsch-Halle (1440)\, Heinersdorfer Str. 52\, Bernau\, 16321\, Deutschland
CATEGORIES:Heimspiel,Highlight,Männer I,Mannschaft,Pokalspiel,Spiel
END:VEVENT
BEGIN:VEVENT
DTSTART;TZID=Europe/Berlin:20251012T150000
DTEND;TZID=Europe/Berlin:20251012T163000
DTSTAMP:20260425T144410
CREATED:20250924T153757Z
LAST-MODIFIED:20250924T153757Z
UID:10011841-1760281200-1760286600@www.hsvbb.org
SUMMARY:Oberliga Brandenburg: mJA fährt zum SV Blau-Weiß Dahlewitz
DESCRIPTION:
URL:https://www.hsvbb.org/veranstaltung/oberliga-brandenburg-mja-faehrt-zum-sv-blau-weiss-dahlewitz/
LOCATION:3135 Sporthalle an der Oberschule\, Bahnhofstraße 63\, Dahlewitz\, 15827\, Deutschland
CATEGORIES:Auswärtsspiel,männliche Jugend A,Mannschaft,Spiel
END:VEVENT
END:VCALENDAR