BEGIN:VCALENDAR
VERSION:2.0
PRODID:-//HSV Bernauer Bären e.V. - ECPv6.15.13//NONSGML v1.0//EN
CALSCALE:GREGORIAN
METHOD:PUBLISH
X-ORIGINAL-URL:https://www.hsvbb.org
X-WR-CALDESC:Veranstaltungen für HSV Bernauer Bären e.V.
REFRESH-INTERVAL;VALUE=DURATION:PT1H
X-Robots-Tag:noindex
X-PUBLISHED-TTL:PT1H
BEGIN:VTIMEZONE
TZID:Europe/Berlin
BEGIN:DAYLIGHT
TZOFFSETFROM:+0100
TZOFFSETTO:+0200
TZNAME:CEST
DTSTART:20240331T010000
END:DAYLIGHT
BEGIN:STANDARD
TZOFFSETFROM:+0200
TZOFFSETTO:+0100
TZNAME:CET
DTSTART:20241027T010000
END:STANDARD
BEGIN:DAYLIGHT
TZOFFSETFROM:+0100
TZOFFSETTO:+0200
TZNAME:CEST
DTSTART:20250330T010000
END:DAYLIGHT
BEGIN:STANDARD
TZOFFSETFROM:+0200
TZOFFSETTO:+0100
TZNAME:CET
DTSTART:20251026T010000
END:STANDARD
BEGIN:DAYLIGHT
TZOFFSETFROM:+0100
TZOFFSETTO:+0200
TZNAME:CEST
DTSTART:20260329T010000
END:DAYLIGHT
BEGIN:STANDARD
TZOFFSETFROM:+0200
TZOFFSETTO:+0100
TZNAME:CET
DTSTART:20261025T010000
END:STANDARD
END:VTIMEZONE
BEGIN:VEVENT
DTSTART;TZID=Europe/Berlin:20251004T111500
DTEND;TZID=Europe/Berlin:20251004T123000
DTSTAMP:20260421T221803
CREATED:20250924T153247Z
LAST-MODIFIED:20250924T153247Z
UID:10011838-1759576500-1759581000@www.hsvbb.org
SUMMARY:Oberliga Brandenburg: mJC fährt zum Oranienburger HC
DESCRIPTION:
URL:https://www.hsvbb.org/veranstaltung/oberliga-brandenburg-mjc-faehrt-zum-oranienburger-hc/
LOCATION:1406 MBS Arena / Turm-Erlebniscity\, André-Pican-Strasse 42\, Oranienburg\, 16515
CATEGORIES:Auswärtsspiel,männliche Jugend C,Mannschaft,Spiel
END:VEVENT
BEGIN:VEVENT
DTSTART;TZID=Europe/Berlin:20251004T153000
DTEND;TZID=Europe/Berlin:20251004T200000
DTSTAMP:20260421T221803
CREATED:20250828T142611Z
LAST-MODIFIED:20250929T152807Z
UID:10011821-1759591800-1759608000@www.hsvbb.org
SUMMARY:3. Heimspieltag
DESCRIPTION:Oberliga Brandenburg: mJA empfängt 1. VfL Potsdam \n\n\nVerbandsliga: 1. Frauen empfangen OSG Fredersdorf-Vogelsdorf \n\n 
URL:https://www.hsvbb.org/veranstaltung/3-heimspieltag-5/
LOCATION:Erich-Wünsch-Halle (1440)\, Heinersdorfer Str. 52\, Bernau\, 16321\, Deutschland
CATEGORIES:Frauen I,Heimspiel,Highlight,Mannschaft
ATTACH;FMTTYPE=image/png:https://www.hsvbb.org/wp-content/uploads/2025/08/03.-Heimspiel.png
END:VEVENT
BEGIN:VEVENT
DTSTART;TZID=Europe/Berlin:20251004T163000
DTEND;TZID=Europe/Berlin:20251004T180000
DTSTAMP:20260421T221803
CREATED:20250828T142044Z
LAST-MODIFIED:20250828T142044Z
UID:10011819-1759595400-1759600800@www.hsvbb.org
SUMMARY:Oberliga Brandenburg: mJA empfängt 1. VfL Potsdam
DESCRIPTION:
URL:https://www.hsvbb.org/veranstaltung/oberliga-brandenburg-mja-empfaengt-1-vfl-potsdam/
LOCATION:Erich-Wünsch-Halle (1440)\, Heinersdorfer Str. 52\, Bernau\, 16321\, Deutschland
CATEGORIES:männliche Jugend A,Mannschaft
END:VEVENT
BEGIN:VEVENT
DTSTART;TZID=Europe/Berlin:20251004T173000
DTEND;TZID=Europe/Berlin:20251004T190000
DTSTAMP:20260421T221803
CREATED:20250924T153357Z
LAST-MODIFIED:20250924T153945Z
UID:10011839-1759599000-1759604400@www.hsvbb.org
SUMMARY:Verbandsliga: 2. Männer fahren zum FK Hansa Wittstock 1919
DESCRIPTION:
URL:https://www.hsvbb.org/veranstaltung/verbandsliga-1-frauen-fahren-zum-fk-hansa-wittstock-1919/
LOCATION:4150 Stadthalle Wittstock\, Ringstraße 28\, Wittstock\, 16909\, Deutschland
CATEGORIES:Auswärtsspiel,Männer II,Mannschaft,Spiel
END:VEVENT
BEGIN:VEVENT
DTSTART;TZID=Europe/Berlin:20251004T184500
DTEND;TZID=Europe/Berlin:20251004T200000
DTSTAMP:20260421T221803
CREATED:20250828T142148Z
LAST-MODIFIED:20250828T142148Z
UID:10011820-1759603500-1759608000@www.hsvbb.org
SUMMARY:Verbandsliga: 1. Frauen empfangen OSG Fredersdorf-Vogelsdorf
DESCRIPTION:
URL:https://www.hsvbb.org/veranstaltung/verbandsliga-1-frauen-empfangen-osg-fredersdorf-vogelsdorf/
LOCATION:Erich-Wünsch-Halle (1440)\, Heinersdorfer Str. 52\, Bernau\, 16321\, Deutschland
CATEGORIES:Frauen I,Mannschaft
END:VEVENT
END:VCALENDAR