BEGIN:VCALENDAR
VERSION:2.0
PRODID:-//HSV Bernauer Bären e.V. - ECPv6.15.13//NONSGML v1.0//EN
CALSCALE:GREGORIAN
METHOD:PUBLISH
X-WR-CALNAME:HSV Bernauer Bären e.V.
X-ORIGINAL-URL:https://www.hsvbb.org
X-WR-CALDESC:Veranstaltungen für HSV Bernauer Bären e.V.
REFRESH-INTERVAL;VALUE=DURATION:PT1H
X-Robots-Tag:noindex
X-PUBLISHED-TTL:PT1H
BEGIN:VTIMEZONE
TZID:Europe/Berlin
BEGIN:DAYLIGHT
TZOFFSETFROM:+0100
TZOFFSETTO:+0200
TZNAME:CEST
DTSTART:20240331T010000
END:DAYLIGHT
BEGIN:STANDARD
TZOFFSETFROM:+0200
TZOFFSETTO:+0100
TZNAME:CET
DTSTART:20241027T010000
END:STANDARD
BEGIN:DAYLIGHT
TZOFFSETFROM:+0100
TZOFFSETTO:+0200
TZNAME:CEST
DTSTART:20250330T010000
END:DAYLIGHT
BEGIN:STANDARD
TZOFFSETFROM:+0200
TZOFFSETTO:+0100
TZNAME:CET
DTSTART:20251026T010000
END:STANDARD
BEGIN:DAYLIGHT
TZOFFSETFROM:+0100
TZOFFSETTO:+0200
TZNAME:CEST
DTSTART:20260329T010000
END:DAYLIGHT
BEGIN:STANDARD
TZOFFSETFROM:+0200
TZOFFSETTO:+0100
TZNAME:CET
DTSTART:20261025T010000
END:STANDARD
END:VTIMEZONE
BEGIN:VEVENT
DTSTART;TZID=Europe/Berlin:20251130T090000
DTEND;TZID=Europe/Berlin:20251130T180000
DTSTAMP:20260421T033733
CREATED:20251119T150432Z
LAST-MODIFIED:20251124T131204Z
UID:10011880-1764493200-1764525600@www.hsvbb.org
SUMMARY:08. Heimspieltag
DESCRIPTION:Kreisoberliga: mJE 2	empfängt Templiner SV Lok 1951 \n\n\nOberliga Brandenburg: mJB empfängt HSG RSV Teltow/Ruhlsdorf \n\n\nOberliga Brandenburg: mJA empfängt HSV Frankfurt (Oder) \n\n\nVerbandsliga: 1. Frauen empfangen MTV 1860 Altlandsberg II \n\n 
URL:https://www.hsvbb.org/veranstaltung/08-heimspieltag/
LOCATION:Erich-Wünsch-Halle (1440)\, Heinersdorfer Str. 52\, Bernau\, 16321\, Deutschland
CATEGORIES:gemischte Jugend E II,Heimspiel,Highlight,Mannschaft,Spiel
ATTACH;FMTTYPE=image/png:https://www.hsvbb.org/wp-content/uploads/2025/11/08.Heimspiel.png
END:VEVENT
BEGIN:VEVENT
DTSTART;TZID=Europe/Berlin:20251130T100000
DTEND;TZID=Europe/Berlin:20251130T110000
DTSTAMP:20260421T033733
CREATED:20251119T145507Z
LAST-MODIFIED:20251119T145507Z
UID:10011876-1764496800-1764500400@www.hsvbb.org
SUMMARY:Kreisoberliga: mJE 2	empfängt Templiner SV Lok 1951
DESCRIPTION:
URL:https://www.hsvbb.org/veranstaltung/kreisoberliga-mje-2empfaengt-templiner-sv-lok-1951/
LOCATION:Erich-Wünsch-Halle (1440)\, Heinersdorfer Str. 52\, Bernau\, 16321\, Deutschland
CATEGORIES:gemischte Jugend E I,Heimspiel,Mannschaft,Spiel
END:VEVENT
BEGIN:VEVENT
DTSTART;TZID=Europe/Berlin:20251130T100000
DTEND;TZID=Europe/Berlin:20251130T110000
DTSTAMP:20260421T033733
CREATED:20251119T150613Z
LAST-MODIFIED:20251119T150613Z
UID:10011881-1764496800-1764500400@www.hsvbb.org
SUMMARY:Kreisoberliga: wJE fährt zum SV Union Neuruppin
DESCRIPTION:
URL:https://www.hsvbb.org/veranstaltung/kreisoberliga-wje-faehrt-zum-sv-union-neuruppin/
LOCATION:4100 Sporthalle am Oberstufenzentrum\, Alt-Ruppiner-Allee 39\, Neuruppin\, 16816\, Deutschland
CATEGORIES:Auswärtsspiel,Mannschaft,Spiel
END:VEVENT
BEGIN:VEVENT
DTSTART;TZID=Europe/Berlin:20251130T114500
DTEND;TZID=Europe/Berlin:20251130T130000
DTSTAMP:20260421T033733
CREATED:20251119T145649Z
LAST-MODIFIED:20251119T145649Z
UID:10011877-1764503100-1764507600@www.hsvbb.org
SUMMARY:Oberliga Brandenburg: mJB empfängt HSG RSV Teltow/Ruhlsdorf
DESCRIPTION:
URL:https://www.hsvbb.org/veranstaltung/oberliga-brandenburg-mjb-empfaengt-hsg-rsv-teltow-ruhlsdorf/
LOCATION:Erich-Wünsch-Halle (1440)\, Heinersdorfer Str. 52\, Bernau\, 16321\, Deutschland
CATEGORIES:Heimspiel,männliche Jugend B,Mannschaft,Spiel
END:VEVENT
BEGIN:VEVENT
DTSTART;TZID=Europe/Berlin:20251130T134500
DTEND;TZID=Europe/Berlin:20251130T150000
DTSTAMP:20260421T033733
CREATED:20251119T145757Z
LAST-MODIFIED:20251119T145757Z
UID:10011878-1764510300-1764514800@www.hsvbb.org
SUMMARY:Oberliga Brandenburg: mJA empfängt HSV Frankfurt (Oder)
DESCRIPTION:
URL:https://www.hsvbb.org/veranstaltung/oberliga-brandenburg-mja-empfaengt-hsv-frankfurt-oder/
LOCATION:Erich-Wünsch-Halle (1440)\, Heinersdorfer Str. 52\, Bernau\, 16321\, Deutschland
CATEGORIES:Heimspiel,männliche Jugend A,Mannschaft,Spiel
END:VEVENT
BEGIN:VEVENT
DTSTART;TZID=Europe/Berlin:20251130T160000
DTEND;TZID=Europe/Berlin:20251130T180000
DTSTAMP:20260421T033733
CREATED:20251119T145854Z
LAST-MODIFIED:20251119T145854Z
UID:10011879-1764518400-1764525600@www.hsvbb.org
SUMMARY:Verbandsliga: 1. Frauen empfangen MTV 1860 Altlandsberg II
DESCRIPTION:
URL:https://www.hsvbb.org/veranstaltung/verbandsliga-1-frauen-empfangen-mtv-1860-altlandsberg-ii/
LOCATION:Erich-Wünsch-Halle (1440)\, Heinersdorfer Str. 52\, Bernau\, 16321\, Deutschland
CATEGORIES:Frauen I,Heimspiel,Mannschaft,Spiel
END:VEVENT
END:VCALENDAR