BEGIN:VCALENDAR
VERSION:2.0
PRODID:-//HSV Bernauer Bären e.V. - ECPv6.15.13//NONSGML v1.0//EN
CALSCALE:GREGORIAN
METHOD:PUBLISH
X-WR-CALNAME:HSV Bernauer Bären e.V.
X-ORIGINAL-URL:https://www.hsvbb.org
X-WR-CALDESC:Veranstaltungen für HSV Bernauer Bären e.V.
REFRESH-INTERVAL;VALUE=DURATION:PT1H
X-Robots-Tag:noindex
X-PUBLISHED-TTL:PT1H
BEGIN:VTIMEZONE
TZID:Europe/Berlin
BEGIN:DAYLIGHT
TZOFFSETFROM:+0100
TZOFFSETTO:+0200
TZNAME:CEST
DTSTART:20240331T010000
END:DAYLIGHT
BEGIN:STANDARD
TZOFFSETFROM:+0200
TZOFFSETTO:+0100
TZNAME:CET
DTSTART:20241027T010000
END:STANDARD
BEGIN:DAYLIGHT
TZOFFSETFROM:+0100
TZOFFSETTO:+0200
TZNAME:CEST
DTSTART:20250330T010000
END:DAYLIGHT
BEGIN:STANDARD
TZOFFSETFROM:+0200
TZOFFSETTO:+0100
TZNAME:CET
DTSTART:20251026T010000
END:STANDARD
BEGIN:DAYLIGHT
TZOFFSETFROM:+0100
TZOFFSETTO:+0200
TZNAME:CEST
DTSTART:20260329T010000
END:DAYLIGHT
BEGIN:STANDARD
TZOFFSETFROM:+0200
TZOFFSETTO:+0100
TZNAME:CET
DTSTART:20261025T010000
END:STANDARD
END:VTIMEZONE
BEGIN:VEVENT
DTSTART;TZID=Europe/Berlin:20251123T090000
DTEND;TZID=Europe/Berlin:20251123T180000
DTSTAMP:20260421T051819
CREATED:20251111T182824Z
LAST-MODIFIED:20251117T125549Z
UID:10011871-1763888400-1763920800@www.hsvbb.org
SUMMARY:07. Heimspieltag
DESCRIPTION:Kreisliga: wJC empfängt Schwarz-Weiss Zepernick 09 \n\n\nOberliga Brandenburg: mJC empfängt HC Spreewald \n\n\nOberliga Brandenburg: mJA empfängt TSG Lübbenau 63 \n\n\nKreisoberliga: Ü40 Männer empfängt SV Eichstädt 1949 \n\n 
URL:https://www.hsvbb.org/veranstaltung/07-heimspieltag/
LOCATION:Erich-Wünsch-Halle (1440)\, Heinersdorfer Str. 52\, Bernau\, 16321\, Deutschland
CATEGORIES:Highlight,Mannschaft,weibliche Jugend C
ATTACH;FMTTYPE=image/png:https://www.hsvbb.org/wp-content/uploads/2025/11/07.Heimspiel.png
END:VEVENT
BEGIN:VEVENT
DTSTART;TZID=Europe/Berlin:20251123T100000
DTEND;TZID=Europe/Berlin:20251123T110000
DTSTAMP:20260421T051819
CREATED:20251111T181923Z
LAST-MODIFIED:20251111T181923Z
UID:10011867-1763892000-1763895600@www.hsvbb.org
SUMMARY:Kreisliga: wJC empfängt Schwarz-Weiss Zepernick 09
DESCRIPTION:
URL:https://www.hsvbb.org/veranstaltung/kreisliga-wjc-empfaengt-schwarz-weiss-zepernick-09/
LOCATION:Erich-Wünsch-Halle (1440)\, Heinersdorfer Str. 52\, Bernau\, 16321\, Deutschland
CATEGORIES:Heimspiel,Mannschaft,Spiel,weibliche Jugend C
END:VEVENT
BEGIN:VEVENT
DTSTART;TZID=Europe/Berlin:20251123T100000
DTEND;TZID=Europe/Berlin:20251123T110000
DTSTAMP:20260421T051819
CREATED:20251111T183301Z
LAST-MODIFIED:20251111T183301Z
UID:10011874-1763892000-1763895600@www.hsvbb.org
SUMMARY:Kreisoberliga: wJE fährt zum SG Uckermark
DESCRIPTION:
URL:https://www.hsvbb.org/veranstaltung/kreisoberliga-wje-faehrt-zum-sg-uckermark/
LOCATION:1120 Dreiklang-Sporthalle\, Hans-Eisler-Weg 19 B\, Schwedt\, 16303\, Deutschland
CATEGORIES:Auswärtsspiel,Spiel
END:VEVENT
BEGIN:VEVENT
DTSTART;TZID=Europe/Berlin:20251123T114500
DTEND;TZID=Europe/Berlin:20251123T130000
DTSTAMP:20260421T051819
CREATED:20251111T182028Z
LAST-MODIFIED:20251113T131908Z
UID:10011868-1763898300-1763902800@www.hsvbb.org
SUMMARY:Oberliga Brandenburg: mJC empfängt HC Spreewald
DESCRIPTION:
URL:https://www.hsvbb.org/veranstaltung/oberliga-brandenburg-mjc-empfaengt-hc-spreewald/
LOCATION:Erich-Wünsch-Halle (1440)\, Heinersdorfer Str. 52\, Bernau\, 16321\, Deutschland
CATEGORIES:Heimspiel,männliche Jugend C,Mannschaft,Spiel
END:VEVENT
BEGIN:VEVENT
DTSTART;TZID=Europe/Berlin:20251123T120000
DTEND;TZID=Europe/Berlin:20251123T130000
DTSTAMP:20260421T051819
CREATED:20251111T183401Z
LAST-MODIFIED:20251111T183401Z
UID:10011875-1763899200-1763902800@www.hsvbb.org
SUMMARY:Kreisoberliga: mJE fährt zum SG Uckermark
DESCRIPTION:
URL:https://www.hsvbb.org/veranstaltung/kreisoberliga-mje-faehrt-zum-sg-uckermark/
LOCATION:1120 Dreiklang-Sporthalle\, Hans-Eisler-Weg 19 B\, Schwedt\, 16303\, Deutschland
CATEGORIES:Auswärtsspiel,gemischte Jugend E I,Mannschaft,Spiel
END:VEVENT
BEGIN:VEVENT
DTSTART;TZID=Europe/Berlin:20251123T134500
DTEND;TZID=Europe/Berlin:20251123T150000
DTSTAMP:20260421T051819
CREATED:20251111T182126Z
LAST-MODIFIED:20251111T182126Z
UID:10011869-1763905500-1763910000@www.hsvbb.org
SUMMARY:Oberliga Brandenburg: mJA empfängt TSG Lübbenau 63
DESCRIPTION:
URL:https://www.hsvbb.org/veranstaltung/oberliga-brandenburg-mja-empfaengt-tsg-luebbenau-63/
LOCATION:Erich-Wünsch-Halle (1440)\, Heinersdorfer Str. 52\, Bernau\, 16321\, Deutschland
CATEGORIES:Heimspiel,männliche Jugend A,Mannschaft,Spiel
END:VEVENT
BEGIN:VEVENT
DTSTART;TZID=Europe/Berlin:20251123T153000
DTEND;TZID=Europe/Berlin:20251123T170000
DTSTAMP:20260421T051819
CREATED:20251111T181824Z
LAST-MODIFIED:20251111T181824Z
UID:10011866-1763911800-1763917200@www.hsvbb.org
SUMMARY:HVB-Verbandspokal Viertelfinale: 2. Männer empfangen 1. SV Eberswalde
DESCRIPTION:
URL:https://www.hsvbb.org/veranstaltung/hvb-verbandspokal-viertelfinale-2-maenner-empfangen-1-sv-eberswalde/
LOCATION:1301 Sportzentrum Westend\, Heegemühler Straße 64\, Eberswalde\, 16225
CATEGORIES:Auswärtsspiel,Highlight,Männer II,Mannschaft,Pokalspiel,Spiel
END:VEVENT
BEGIN:VEVENT
DTSTART;TZID=Europe/Berlin:20251123T160000
DTEND;TZID=Europe/Berlin:20251123T180000
DTSTAMP:20260421T051819
CREATED:20251111T182258Z
LAST-MODIFIED:20251113T131914Z
UID:10011870-1763913600-1763920800@www.hsvbb.org
SUMMARY:Kreisoberliga: Ü40 Männer empfängt SV Eichstädt 1949
DESCRIPTION:
URL:https://www.hsvbb.org/veranstaltung/kreisoberliga-ue40-maenner-empfaengt-sv-eichstaedt-1949/
LOCATION:Erich-Wünsch-Halle (1440)\, Heinersdorfer Str. 52\, Bernau\, 16321\, Deutschland
CATEGORIES:Heimspiel,Mannschaft,Spiel,Ü40
END:VEVENT
END:VCALENDAR