BEGIN:VCALENDAR
VERSION:2.0
PRODID:-//HSV Bernauer Bären e.V. - ECPv6.15.13//NONSGML v1.0//EN
CALSCALE:GREGORIAN
METHOD:PUBLISH
X-WR-CALNAME:HSV Bernauer Bären e.V.
X-ORIGINAL-URL:https://www.hsvbb.org
X-WR-CALDESC:Veranstaltungen für HSV Bernauer Bären e.V.
REFRESH-INTERVAL;VALUE=DURATION:PT1H
X-Robots-Tag:noindex
X-PUBLISHED-TTL:PT1H
BEGIN:VTIMEZONE
TZID:Europe/Berlin
BEGIN:DAYLIGHT
TZOFFSETFROM:+0100
TZOFFSETTO:+0200
TZNAME:CEST
DTSTART:20240331T010000
END:DAYLIGHT
BEGIN:STANDARD
TZOFFSETFROM:+0200
TZOFFSETTO:+0100
TZNAME:CET
DTSTART:20241027T010000
END:STANDARD
BEGIN:DAYLIGHT
TZOFFSETFROM:+0100
TZOFFSETTO:+0200
TZNAME:CEST
DTSTART:20250330T010000
END:DAYLIGHT
BEGIN:STANDARD
TZOFFSETFROM:+0200
TZOFFSETTO:+0100
TZNAME:CET
DTSTART:20251026T010000
END:STANDARD
BEGIN:DAYLIGHT
TZOFFSETFROM:+0100
TZOFFSETTO:+0200
TZNAME:CEST
DTSTART:20260329T010000
END:DAYLIGHT
BEGIN:STANDARD
TZOFFSETFROM:+0200
TZOFFSETTO:+0100
TZNAME:CET
DTSTART:20261025T010000
END:STANDARD
END:VTIMEZONE
BEGIN:VEVENT
DTSTART;TZID=Europe/Berlin:20251115T130000
DTEND;TZID=Europe/Berlin:20251115T143000
DTSTAMP:20260421T090901
CREATED:20251111T161101Z
LAST-MODIFIED:20251111T161101Z
UID:10011860-1763211600-1763217000@www.hsvbb.org
SUMMARY:Verbandsliga: 1. Frauen fahren zum FK Hansa Wittstock 1919
DESCRIPTION:
URL:https://www.hsvbb.org/veranstaltung/verbandsliga-1-frauen-fahren-zum-fk-hansa-wittstock-1919-2/
LOCATION:4150 Stadthalle Wittstock\, Ringstraße 28\, Wittstock\, 16909\, Deutschland
CATEGORIES:Auswärtsspiel,Frauen I,Mannschaft,Spiel
END:VEVENT
BEGIN:VEVENT
DTSTART;TZID=Europe/Berlin:20251115T140000
DTEND;TZID=Europe/Berlin:20251115T150000
DTSTAMP:20260421T090901
CREATED:20251111T161346Z
LAST-MODIFIED:20251111T161346Z
UID:10011862-1763215200-1763218800@www.hsvbb.org
SUMMARY:Kreisoberliga: mJD fährt zum SV Motor Hennigsdorf
DESCRIPTION:
URL:https://www.hsvbb.org/veranstaltung/kreisoberliga-mjd-faehrt-zum-sv-motor-hennigsdorf/
LOCATION:1410 Stadtsporthalle Süd\, Spandauer Allee 12\, Hennigsdorf\, 16761
CATEGORIES:Auswärtsspiel,männliche Jugend D I,Mannschaft,Spiel
END:VEVENT
BEGIN:VEVENT
DTSTART;TZID=Europe/Berlin:20251115T140000
DTEND;TZID=Europe/Berlin:20251115T153000
DTSTAMP:20260421T090901
CREATED:20251111T161227Z
LAST-MODIFIED:20251111T161227Z
UID:10011861-1763215200-1763220600@www.hsvbb.org
SUMMARY:Oberliga Brandenburg: mJB fährt zum HC Spreewald
DESCRIPTION:
URL:https://www.hsvbb.org/veranstaltung/oberliga-brandenburg-mjb-faehrt-zum-hc-spreewald/
LOCATION:2340 Mehrzweckhalle Lübben\, Wettiner Straße 4\, Lübben\, 15907\, Deutschland
CATEGORIES:Auswärtsspiel,männliche Jugend B,Mannschaft,Spiel
END:VEVENT
BEGIN:VEVENT
DTSTART;TZID=Europe/Berlin:20251115T150000
DTEND;TZID=Europe/Berlin:20251115T163000
DTSTAMP:20260421T090901
CREATED:20251111T161452Z
LAST-MODIFIED:20251111T161452Z
UID:10011863-1763218800-1763224200@www.hsvbb.org
SUMMARY:Oberliga Brandenburg:  mJC fährt zum PHC Wittenberge
DESCRIPTION:
URL:https://www.hsvbb.org/veranstaltung/oberliga-brandenburg-mjc-faehrt-zum-phc-wittenberge/
LOCATION:4000 Sporthalle OSZ\, Bad Wilsnacker Straße 40\, Wittenberge\, 19322
CATEGORIES:Auswärtsspiel,männliche Jugend C,Mannschaft,Spiel
END:VEVENT
END:VCALENDAR