BEGIN:VCALENDAR
VERSION:2.0
PRODID:-//HSV Bernauer Bären e.V. - ECPv6.15.13//NONSGML v1.0//EN
CALSCALE:GREGORIAN
METHOD:PUBLISH
X-ORIGINAL-URL:https://www.hsvbb.org
X-WR-CALDESC:Veranstaltungen für HSV Bernauer Bären e.V.
REFRESH-INTERVAL;VALUE=DURATION:PT1H
X-Robots-Tag:noindex
X-PUBLISHED-TTL:PT1H
BEGIN:VTIMEZONE
TZID:Europe/Berlin
BEGIN:DAYLIGHT
TZOFFSETFROM:+0100
TZOFFSETTO:+0200
TZNAME:CEST
DTSTART:20240331T010000
END:DAYLIGHT
BEGIN:STANDARD
TZOFFSETFROM:+0200
TZOFFSETTO:+0100
TZNAME:CET
DTSTART:20241027T010000
END:STANDARD
BEGIN:DAYLIGHT
TZOFFSETFROM:+0100
TZOFFSETTO:+0200
TZNAME:CEST
DTSTART:20250330T010000
END:DAYLIGHT
BEGIN:STANDARD
TZOFFSETFROM:+0200
TZOFFSETTO:+0100
TZNAME:CET
DTSTART:20251026T010000
END:STANDARD
BEGIN:DAYLIGHT
TZOFFSETFROM:+0100
TZOFFSETTO:+0200
TZNAME:CEST
DTSTART:20260329T010000
END:DAYLIGHT
BEGIN:STANDARD
TZOFFSETFROM:+0200
TZOFFSETTO:+0100
TZNAME:CET
DTSTART:20261025T010000
END:STANDARD
END:VTIMEZONE
BEGIN:VEVENT
DTSTART;VALUE=DATE:20250422
DTEND;VALUE=DATE:20250426
DTSTAMP:20260421T152951
CREATED:20250326T094027Z
LAST-MODIFIED:20250326T101237Z
UID:10011806-1745280000-1745625599@www.hsvbb.org
SUMMARY:HUMMEL Handballcamp Osterferien 2025
DESCRIPTION:HUMMEL Handballcamp zur 4. Auflage in Bernau \n\n 
URL:https://www.hsvbb.org/veranstaltung/hummel-handballcamp-osterferien-2025/
LOCATION:Erich-Wünsch-Halle (1440)\, Heinersdorfer Str. 52\, Bernau\, 16321\, Deutschland
CATEGORIES:Highlight
ATTACH;FMTTYPE=image/jpeg:https://www.hsvbb.org/wp-content/uploads/2025/03/WhatsApp-Bild-2025-03-26-um-10.35.44_be4ad9d6.jpg
END:VEVENT
BEGIN:VEVENT
DTSTART;TZID=Europe/Berlin:20250422T170000
DTEND;TZID=Europe/Berlin:20250422T183000
DTSTAMP:20260421T152951
CREATED:20240818T113703Z
LAST-MODIFIED:20240818T113755Z
UID:10010143-1745341200-1745346600@www.hsvbb.org
SUMMARY:Training mJB
DESCRIPTION:B-Jugend – männlich
URL:https://www.hsvbb.org/veranstaltung/training-mjb-di-24/2025-04-22/
LOCATION:Erich-Wünsch-Halle (1440)\, Heinersdorfer Str. 52\, Bernau\, 16321\, Deutschland
CATEGORIES:männliche Jugend B,Training
ATTACH;FMTTYPE=image/png:https://www.hsvbb.org/wp-content/uploads/2023/09/training.png
END:VEVENT
BEGIN:VEVENT
DTSTART;TZID=Europe/Berlin:20250422T170000
DTEND;TZID=Europe/Berlin:20250422T183000
DTSTAMP:20260421T152951
CREATED:20240818T113916Z
LAST-MODIFIED:20240818T113932Z
UID:10010181-1745341200-1745346600@www.hsvbb.org
SUMMARY:Training Frauen
DESCRIPTION:1. Frauen
URL:https://www.hsvbb.org/veranstaltung/training-frauen-di-24/2025-04-22/
LOCATION:Erich-Wünsch-Halle (1440)\, Heinersdorfer Str. 52\, Bernau\, 16321\, Deutschland
CATEGORIES:Frauen I,Training
ATTACH;FMTTYPE=image/png:https://www.hsvbb.org/wp-content/uploads/2023/09/training.png
END:VEVENT
BEGIN:VEVENT
DTSTART;TZID=Europe/Berlin:20250422T183000
DTEND;TZID=Europe/Berlin:20250422T201500
DTSTAMP:20260421T152951
CREATED:20240818T113414Z
LAST-MODIFIED:20240818T113524Z
UID:10010067-1745346600-1745352900@www.hsvbb.org
SUMMARY:Training mJA
DESCRIPTION:A-Jugend – männlich – Oberliga
URL:https://www.hsvbb.org/veranstaltung/training-mja-di-24/2025-04-22/
LOCATION:Erich-Wünsch-Halle (1440)\, Heinersdorfer Str. 52\, Bernau\, 16321\, Deutschland
CATEGORIES:männliche Jugend A,Training
ATTACH;FMTTYPE=image/png:https://www.hsvbb.org/wp-content/uploads/2023/09/training.png
END:VEVENT
BEGIN:VEVENT
DTSTART;TZID=Europe/Berlin:20250422T190000
DTEND;TZID=Europe/Berlin:20250422T210000
DTSTAMP:20260421T152951
CREATED:20240818T135125Z
LAST-MODIFIED:20240818T141743Z
UID:10011146-1745348400-1745355600@www.hsvbb.org
SUMMARY:Training Männer 2
DESCRIPTION:2. Männer
URL:https://www.hsvbb.org/veranstaltung/training-maenner-2-di-24/2025-04-22/
LOCATION:Sporthalle am Wasserturm (1430)\, Schönower Chaussee 2\, Bernau\, 16321\, Deutschland
CATEGORIES:Männer II,Training
ATTACH;FMTTYPE=image/png:https://www.hsvbb.org/wp-content/uploads/2023/09/training.png
END:VEVENT
BEGIN:VEVENT
DTSTART;TZID=Europe/Berlin:20250422T201500
DTEND;TZID=Europe/Berlin:20250422T220000
DTSTAMP:20260421T152951
CREATED:20240818T092942Z
LAST-MODIFIED:20240818T094259Z
UID:10009468-1745352900-1745359200@www.hsvbb.org
SUMMARY:Training Männer 1
DESCRIPTION:1. Männer
URL:https://www.hsvbb.org/veranstaltung/training-maenner-1-di-24/2025-04-22/
LOCATION:Erich-Wünsch-Halle (1440)\, Heinersdorfer Str. 52\, Bernau\, 16321\, Deutschland
CATEGORIES:Männer I,Training
ATTACH;FMTTYPE=image/png:https://www.hsvbb.org/wp-content/uploads/2023/09/training.png
END:VEVENT
END:VCALENDAR