BEGIN:VCALENDAR
VERSION:2.0
PRODID:-//HSV Bernauer Bären e.V. - ECPv6.15.13//NONSGML v1.0//EN
CALSCALE:GREGORIAN
METHOD:PUBLISH
X-ORIGINAL-URL:https://www.hsvbb.org
X-WR-CALDESC:Veranstaltungen für HSV Bernauer Bären e.V.
REFRESH-INTERVAL;VALUE=DURATION:PT1H
X-Robots-Tag:noindex
X-PUBLISHED-TTL:PT1H
BEGIN:VTIMEZONE
TZID:Europe/Berlin
BEGIN:DAYLIGHT
TZOFFSETFROM:+0100
TZOFFSETTO:+0200
TZNAME:CEST
DTSTART:20240331T010000
END:DAYLIGHT
BEGIN:STANDARD
TZOFFSETFROM:+0200
TZOFFSETTO:+0100
TZNAME:CET
DTSTART:20241027T010000
END:STANDARD
BEGIN:DAYLIGHT
TZOFFSETFROM:+0100
TZOFFSETTO:+0200
TZNAME:CEST
DTSTART:20250330T010000
END:DAYLIGHT
BEGIN:STANDARD
TZOFFSETFROM:+0200
TZOFFSETTO:+0100
TZNAME:CET
DTSTART:20251026T010000
END:STANDARD
BEGIN:DAYLIGHT
TZOFFSETFROM:+0100
TZOFFSETTO:+0200
TZNAME:CEST
DTSTART:20260329T010000
END:DAYLIGHT
BEGIN:STANDARD
TZOFFSETFROM:+0200
TZOFFSETTO:+0100
TZNAME:CET
DTSTART:20261025T010000
END:STANDARD
END:VTIMEZONE
BEGIN:VEVENT
DTSTART;TZID=Europe/Berlin:20250308T103000
DTEND;TZID=Europe/Berlin:20250308T200000
DTSTAMP:20260425T231348
CREATED:20250108T125417Z
LAST-MODIFIED:20250304T134449Z
UID:10011796-1741429800-1741464000@www.hsvbb.org
SUMMARY:16. Heimspieltag
DESCRIPTION:KL: gJE2 empfängt SV Fortuna Prenzlau \n\n\nKOL: gJE empfängt 1.SV Eberswalde \n\n\nKL: mJD2 empfängt 1.SV Eberswalde \n\n\nKOL: Ü40 empfangen Oranienburger HC
URL:https://www.hsvbb.org/veranstaltung/16-heimspieltag-3/
LOCATION:Sporthalle am Wasserturm (1430)\, Schönower Chaussee 2\, Bernau\, 16321\, Deutschland
CATEGORIES:Heimspiel,Highlight,Ü40
ATTACH;FMTTYPE=image/png:https://www.hsvbb.org/wp-content/uploads/2025/03/ankuendigungbernau08.03._16zu9psd.png
END:VEVENT
BEGIN:VEVENT
DTSTART;TZID=Europe/Berlin:20250308T113000
DTEND;TZID=Europe/Berlin:20250308T130000
DTSTAMP:20260425T231348
CREATED:20241021T215036Z
LAST-MODIFIED:20241021T215036Z
UID:10011773-1741433400-1741438800@www.hsvbb.org
SUMMARY:KL: gJE2 empfängt SV Fortuna Prenzlau
DESCRIPTION:https://www.hsvbb.org/jugend/gje2/
URL:https://www.hsvbb.org/veranstaltung/kl-gje2-empfaengt-sv-fortuna-prenzlau/
LOCATION:Sporthalle am Wasserturm (1430)\, Schönower Chaussee 2\, Bernau\, 16321\, Deutschland
CATEGORIES:gemischte Jugend E II,Heimspiel
ATTACH;FMTTYPE=image/png:https://www.hsvbb.org/wp-content/uploads/2023/09/heimspiel.png
END:VEVENT
BEGIN:VEVENT
DTSTART;TZID=Europe/Berlin:20250308T131500
DTEND;TZID=Europe/Berlin:20250308T143000
DTSTAMP:20260425T231348
CREATED:20240927T181350Z
LAST-MODIFIED:20240927T181350Z
UID:10011725-1741439700-1741444200@www.hsvbb.org
SUMMARY:KOL: gJE empfängt 1.SV Eberswalde
DESCRIPTION:https://www.hsvbb.org/jugend/gje1/
URL:https://www.hsvbb.org/veranstaltung/kol-gje-empfaengt-1-sv-eberswalde/
LOCATION:Sporthalle am Wasserturm (1430)\, Schönower Chaussee 2\, Bernau\, 16321\, Deutschland
CATEGORIES:gemischte Jugend E I,Heimspiel
ATTACH;FMTTYPE=image/png:https://www.hsvbb.org/wp-content/uploads/2023/09/heimspiel.png
END:VEVENT
BEGIN:VEVENT
DTSTART;TZID=Europe/Berlin:20250308T150000
DTEND;TZID=Europe/Berlin:20250308T163000
DTSTAMP:20260425T231348
CREATED:20241020T115749Z
LAST-MODIFIED:20241020T115749Z
UID:10011758-1741446000-1741451400@www.hsvbb.org
SUMMARY:KL: mJD2 empfängt 1.SV Eberswalde
DESCRIPTION:D-Jugend II – männlich – KL
URL:https://www.hsvbb.org/veranstaltung/kl-mjd2-empfaengt-1-sv-eberswalde/
LOCATION:Sporthalle am Wasserturm (1430)\, Schönower Chaussee 2\, Bernau\, 16321\, Deutschland
CATEGORIES:Heimspiel,männliche Jugend D II
ATTACH;FMTTYPE=image/png:https://www.hsvbb.org/wp-content/uploads/2023/09/heimspiel.png
END:VEVENT
BEGIN:VEVENT
DTSTART;TZID=Europe/Berlin:20250308T164500
DTEND;TZID=Europe/Berlin:20250308T183000
DTSTAMP:20260425T231348
CREATED:20241120T191719Z
LAST-MODIFIED:20241120T191719Z
UID:10011783-1741452300-1741458600@www.hsvbb.org
SUMMARY:KOL: Ü40 empfangen Oranienburger HC
DESCRIPTION:alte Herren – Ü40
URL:https://www.hsvbb.org/veranstaltung/kol-ue40-empfangen-oranienburger-hc/
LOCATION:Sporthalle am Wasserturm (1430)\, Schönower Chaussee 2\, Bernau\, 16321\, Deutschland
CATEGORIES:Heimspiel,Ü40
ATTACH;FMTTYPE=image/png:https://www.hsvbb.org/wp-content/uploads/2023/09/heimspiel.png
END:VEVENT
BEGIN:VEVENT
DTSTART;TZID=Europe/Berlin:20250308T180000
DTEND;TZID=Europe/Berlin:20250308T193000
DTSTAMP:20260425T231348
CREATED:20240908T084552Z
LAST-MODIFIED:20240908T084552Z
UID:10011646-1741456800-1741462200@www.hsvbb.org
SUMMARY:Oberliga: Männer 1 fahren zum SV Jahn Bad Freienwalde
DESCRIPTION:1. Männer
URL:https://www.hsvbb.org/veranstaltung/oberliga-maenner-1-fahren-zum-sv-jahn-bad-freienwalde/
LOCATION:1355 Kurstadt-Sporthalle\, Beethovenstraße 31\, Bad Freienwalde\, 16259\, Deutschland
CATEGORIES:Auswärtsspiel,Männer I
ATTACH;FMTTYPE=image/png:https://www.hsvbb.org/wp-content/uploads/2023/09/auswaerts.png
END:VEVENT
END:VCALENDAR