BEGIN:VCALENDAR
VERSION:2.0
PRODID:-//HSV Bernauer Bären e.V. - ECPv6.15.13//NONSGML v1.0//EN
CALSCALE:GREGORIAN
METHOD:PUBLISH
X-ORIGINAL-URL:https://www.hsvbb.org
X-WR-CALDESC:Veranstaltungen für HSV Bernauer Bären e.V.
REFRESH-INTERVAL;VALUE=DURATION:PT1H
X-Robots-Tag:noindex
X-PUBLISHED-TTL:PT1H
BEGIN:VTIMEZONE
TZID:Europe/Berlin
BEGIN:DAYLIGHT
TZOFFSETFROM:+0100
TZOFFSETTO:+0200
TZNAME:CEST
DTSTART:20230326T010000
END:DAYLIGHT
BEGIN:STANDARD
TZOFFSETFROM:+0200
TZOFFSETTO:+0100
TZNAME:CET
DTSTART:20231029T010000
END:STANDARD
BEGIN:DAYLIGHT
TZOFFSETFROM:+0100
TZOFFSETTO:+0200
TZNAME:CEST
DTSTART:20240331T010000
END:DAYLIGHT
BEGIN:STANDARD
TZOFFSETFROM:+0200
TZOFFSETTO:+0100
TZNAME:CET
DTSTART:20241027T010000
END:STANDARD
BEGIN:DAYLIGHT
TZOFFSETFROM:+0100
TZOFFSETTO:+0200
TZNAME:CEST
DTSTART:20250330T010000
END:DAYLIGHT
BEGIN:STANDARD
TZOFFSETFROM:+0200
TZOFFSETTO:+0100
TZNAME:CET
DTSTART:20251026T010000
END:STANDARD
END:VTIMEZONE
BEGIN:VEVENT
DTSTART;TZID=Europe/Berlin:20240302T110000
DTEND;TZID=Europe/Berlin:20240302T120000
DTSTAMP:20260424T132849
CREATED:20230910T125918Z
LAST-MODIFIED:20230910T125918Z
UID:10009212-1709377200-1709380800@www.hsvbb.org
SUMMARY:gJE fährt zum Oranienburger HC II
DESCRIPTION:https://www.hsvbb.org/jugend/gje1/
URL:https://www.hsvbb.org/veranstaltung/gje-faehrt-zum-oranienburger-hc-ii/
LOCATION:1406 MBS Arena / Turm-Erlebniscity\, André-Pican-Strasse 42\, Oranienburg\, 16515
CATEGORIES:Auswärtsspiel,gemischte Jugend E I
ATTACH;FMTTYPE=image/png:https://www.hsvbb.org/wp-content/uploads/2023/09/auswaerts.png
END:VEVENT
BEGIN:VEVENT
DTSTART;TZID=Europe/Berlin:20240302T130000
DTEND;TZID=Europe/Berlin:20240302T140000
DTSTAMP:20260424T132849
CREATED:20230910T131613Z
LAST-MODIFIED:20230910T131613Z
UID:10009219-1709384400-1709388000@www.hsvbb.org
SUMMARY:gJE 2 fährt zum Oranienburger HC
DESCRIPTION:https://www.hsvbb.org/jugend/gje2/
URL:https://www.hsvbb.org/veranstaltung/gje-2-faehrt-zum-oranienburger-hc/
LOCATION:1406 MBS Arena / Turm-Erlebniscity\, André-Pican-Strasse 42\, Oranienburg\, 16515
CATEGORIES:Auswärtsspiel,gemischte Jugend E II
ATTACH;FMTTYPE=image/png:https://www.hsvbb.org/wp-content/uploads/2023/09/auswaerts.png
END:VEVENT
BEGIN:VEVENT
DTSTART;TZID=Europe/Berlin:20240302T140000
DTEND;TZID=Europe/Berlin:20240302T153000
DTSTAMP:20260424T132849
CREATED:20230910T103729Z
LAST-MODIFIED:20230910T104435Z
UID:10009167-1709388000-1709393400@www.hsvbb.org
SUMMARY:Ü40 fahren zur SG Uckermark
DESCRIPTION:alte Herren – Ü40
URL:https://www.hsvbb.org/veranstaltung/ue40-fahren-zum-sg-uckermark/
LOCATION:1150 Mehrzweckhalle Angermünde\, Heinrichstraße 7\, Angermünde\, 16278
CATEGORIES:Auswärtsspiel,Ü40
ATTACH;FMTTYPE=image/png:https://www.hsvbb.org/wp-content/uploads/2023/09/auswaerts.png
END:VEVENT
BEGIN:VEVENT
DTSTART;TZID=Europe/Berlin:20240302T160000
DTEND;TZID=Europe/Berlin:20240302T173000
DTSTAMP:20260424T132849
CREATED:20230907T143133Z
LAST-MODIFIED:20230907T143133Z
UID:10009089-1709395200-1709400600@www.hsvbb.org
SUMMARY:Brandenburgliga: mJB 1 fährt zum HSG Ahrensdorf/Schenkenhorst
DESCRIPTION:https://www.hsvbb.org/jugend/mjb1/
URL:https://www.hsvbb.org/veranstaltung/brandenburgliga-mjb-1-faehrt-zum-hsg-ahrensdorf-schenkenhorst/
LOCATION:3020 Sporthalle Ahrensdorf\, Alte Potsdamer Straße 18\, Ludwigsfelde-OT Ahrensdorf\, 14974
CATEGORIES:Auswärtsspiel,männliche Jugend A
ATTACH;FMTTYPE=image/png:https://www.hsvbb.org/wp-content/uploads/2023/09/auswaerts.png
END:VEVENT
END:VCALENDAR