BEGIN:VCALENDAR
VERSION:2.0
PRODID:-//HSV Bernauer Bären e.V. - ECPv6.15.13//NONSGML v1.0//EN
CALSCALE:GREGORIAN
METHOD:PUBLISH
X-ORIGINAL-URL:https://www.hsvbb.org
X-WR-CALDESC:Veranstaltungen für HSV Bernauer Bären e.V.
REFRESH-INTERVAL;VALUE=DURATION:PT1H
X-Robots-Tag:noindex
X-PUBLISHED-TTL:PT1H
BEGIN:VTIMEZONE
TZID:Europe/Berlin
BEGIN:DAYLIGHT
TZOFFSETFROM:+0100
TZOFFSETTO:+0200
TZNAME:CEST
DTSTART:20230326T010000
END:DAYLIGHT
BEGIN:STANDARD
TZOFFSETFROM:+0200
TZOFFSETTO:+0100
TZNAME:CET
DTSTART:20231029T010000
END:STANDARD
BEGIN:DAYLIGHT
TZOFFSETFROM:+0100
TZOFFSETTO:+0200
TZNAME:CEST
DTSTART:20240331T010000
END:DAYLIGHT
BEGIN:STANDARD
TZOFFSETFROM:+0200
TZOFFSETTO:+0100
TZNAME:CET
DTSTART:20241027T010000
END:STANDARD
BEGIN:DAYLIGHT
TZOFFSETFROM:+0100
TZOFFSETTO:+0200
TZNAME:CEST
DTSTART:20250330T010000
END:DAYLIGHT
BEGIN:STANDARD
TZOFFSETFROM:+0200
TZOFFSETTO:+0100
TZNAME:CET
DTSTART:20251026T010000
END:STANDARD
END:VTIMEZONE
BEGIN:VEVENT
DTSTART;TZID=Europe/Berlin:20240229T170000
DTEND;TZID=Europe/Berlin:20240229T190000
DTSTAMP:20260424T121602
CREATED:20230625T134253Z
LAST-MODIFIED:20230907T093855Z
UID:10007739-1709226000-1709233200@www.hsvbb.org
SUMMARY:Training mJB2
DESCRIPTION:https://www.hsvbb.org/jugend/mjb2/ \nTraining in der halben Halle.
URL:https://www.hsvbb.org/veranstaltung/training-mjb2/2024-02-29/
LOCATION:Sporthalle am Wasserturm (1430)\, Schönower Chaussee 2\, Bernau\, 16321\, Deutschland
CATEGORIES:männliche Jugend B,Training
ATTACH;FMTTYPE=image/png:https://www.hsvbb.org/wp-content/uploads/2023/09/training.png
END:VEVENT
BEGIN:VEVENT
DTSTART;TZID=Europe/Berlin:20240229T170000
DTEND;TZID=Europe/Berlin:20240229T190000
DTSTAMP:20260424T121602
CREATED:20230907T094900Z
LAST-MODIFIED:20230907T094931Z
UID:10008739-1709226000-1709233200@www.hsvbb.org
SUMMARY:Training mJB1
DESCRIPTION:https://www.hsvbb.org/jugend/mjb1/ \nTraining in der halben Halle.
URL:https://www.hsvbb.org/veranstaltung/training-mjb1-3/2024-02-29/
LOCATION:Sporthalle am Wasserturm (1430)\, Schönower Chaussee 2\, Bernau\, 16321\, Deutschland
CATEGORIES:männliche Jugend A,Training
ATTACH;FMTTYPE=image/png:https://www.hsvbb.org/wp-content/uploads/2023/09/training.png
END:VEVENT
BEGIN:VEVENT
DTSTART;TZID=Europe/Berlin:20240229T190000
DTEND;TZID=Europe/Berlin:20240229T203000
DTSTAMP:20260424T121602
CREATED:20230907T092725Z
LAST-MODIFIED:20231118T110101Z
UID:10008638-1709233200-1709238600@www.hsvbb.org
SUMMARY:Training Männer 2
DESCRIPTION:2. Männer \n\n 
URL:https://www.hsvbb.org/veranstaltung/training-maenner-2-3/2024-02-29/
LOCATION:Erich-Wünsch-Halle (1440)\, Heinersdorfer Str. 52\, Bernau\, 16321\, Deutschland
CATEGORIES:Männer II,Training
ATTACH;FMTTYPE=image/png:https://www.hsvbb.org/wp-content/uploads/2023/09/training.png
END:VEVENT
BEGIN:VEVENT
DTSTART;TZID=Europe/Berlin:20240229T200000
DTEND;TZID=Europe/Berlin:20240229T213000
DTSTAMP:20260424T121602
CREATED:20230907T093041Z
LAST-MODIFIED:20231118T110117Z
UID:10008708-1709236800-1709242200@www.hsvbb.org
SUMMARY:Training Männer 1
DESCRIPTION:1. Männer
URL:https://www.hsvbb.org/veranstaltung/training-maenner-1-2/2024-02-29/
LOCATION:Erich-Wünsch-Halle (1440)\, Heinersdorfer Str. 52\, Bernau\, 16321\, Deutschland
CATEGORIES:Männer I,Training
ATTACH;FMTTYPE=image/png:https://www.hsvbb.org/wp-content/uploads/2023/09/training.png
END:VEVENT
END:VCALENDAR