BEGIN:VCALENDAR
VERSION:2.0
PRODID:-//HSV Bernauer Bären e.V. - ECPv6.15.13//NONSGML v1.0//EN
CALSCALE:GREGORIAN
METHOD:PUBLISH
X-WR-CALNAME:HSV Bernauer Bären e.V.
X-ORIGINAL-URL:https://www.hsvbb.org
X-WR-CALDESC:Veranstaltungen für HSV Bernauer Bären e.V.
REFRESH-INTERVAL;VALUE=DURATION:PT1H
X-Robots-Tag:noindex
X-PUBLISHED-TTL:PT1H
BEGIN:VTIMEZONE
TZID:Europe/Berlin
BEGIN:DAYLIGHT
TZOFFSETFROM:+0100
TZOFFSETTO:+0200
TZNAME:CEST
DTSTART:20230326T010000
END:DAYLIGHT
BEGIN:STANDARD
TZOFFSETFROM:+0200
TZOFFSETTO:+0100
TZNAME:CET
DTSTART:20231029T010000
END:STANDARD
BEGIN:DAYLIGHT
TZOFFSETFROM:+0100
TZOFFSETTO:+0200
TZNAME:CEST
DTSTART:20240331T010000
END:DAYLIGHT
BEGIN:STANDARD
TZOFFSETFROM:+0200
TZOFFSETTO:+0100
TZNAME:CET
DTSTART:20241027T010000
END:STANDARD
BEGIN:DAYLIGHT
TZOFFSETFROM:+0100
TZOFFSETTO:+0200
TZNAME:CEST
DTSTART:20250330T010000
END:DAYLIGHT
BEGIN:STANDARD
TZOFFSETFROM:+0200
TZOFFSETTO:+0100
TZNAME:CET
DTSTART:20251026T010000
END:STANDARD
END:VTIMEZONE
BEGIN:VEVENT
DTSTART;TZID=Europe/Berlin:20240129T160000
DTEND;TZID=Europe/Berlin:20240129T173000
DTSTAMP:20260424T132724
CREATED:20230906T094426Z
LAST-MODIFIED:20230906T094426Z
UID:10007961-1706544000-1706549400@www.hsvbb.org
SUMMARY:Training gJE1/E2
DESCRIPTION:https://www.hsvbb.org/jugend/gje1/ \nhttps://www.hsvbb.org/jugend/gje2/
URL:https://www.hsvbb.org/veranstaltung/training-gje1-e2/2024-01-29/
LOCATION:Erich-Wünsch-Halle (1440)\, Heinersdorfer Str. 52\, Bernau\, 16321\, Deutschland
CATEGORIES:gemischte Jugend E I,gemischte Jugend E II,Training
ATTACH;FMTTYPE=image/png:https://www.hsvbb.org/wp-content/uploads/2023/09/training.png
END:VEVENT
BEGIN:VEVENT
DTSTART;TZID=Europe/Berlin:20240129T173000
DTEND;TZID=Europe/Berlin:20240129T190000
DTSTAMP:20260424T132724
CREATED:20230906T094952Z
LAST-MODIFIED:20230906T094952Z
UID:10008023-1706549400-1706554800@www.hsvbb.org
SUMMARY:Training mJC
DESCRIPTION:C-Jugend – männlich – Oberliga
URL:https://www.hsvbb.org/veranstaltung/training-mjc/2024-01-29/
LOCATION:Erich-Wünsch-Halle (1440)\, Heinersdorfer Str. 52\, Bernau\, 16321\, Deutschland
CATEGORIES:männliche Jugend C,Training
ATTACH;FMTTYPE=image/png:https://www.hsvbb.org/wp-content/uploads/2023/09/training.png
END:VEVENT
END:VCALENDAR