BEGIN:VCALENDAR
VERSION:2.0
PRODID:-//HSV Bernauer Bären e.V. - ECPv6.15.13//NONSGML v1.0//EN
CALSCALE:GREGORIAN
METHOD:PUBLISH
X-ORIGINAL-URL:https://www.hsvbb.org
X-WR-CALDESC:Veranstaltungen für HSV Bernauer Bären e.V.
REFRESH-INTERVAL;VALUE=DURATION:PT1H
X-Robots-Tag:noindex
X-PUBLISHED-TTL:PT1H
BEGIN:VTIMEZONE
TZID:Europe/Berlin
BEGIN:DAYLIGHT
TZOFFSETFROM:+0100
TZOFFSETTO:+0200
TZNAME:CEST
DTSTART:20220327T010000
END:DAYLIGHT
BEGIN:STANDARD
TZOFFSETFROM:+0200
TZOFFSETTO:+0100
TZNAME:CET
DTSTART:20221030T010000
END:STANDARD
BEGIN:DAYLIGHT
TZOFFSETFROM:+0100
TZOFFSETTO:+0200
TZNAME:CEST
DTSTART:20230326T010000
END:DAYLIGHT
BEGIN:STANDARD
TZOFFSETFROM:+0200
TZOFFSETTO:+0100
TZNAME:CET
DTSTART:20231029T010000
END:STANDARD
BEGIN:DAYLIGHT
TZOFFSETFROM:+0100
TZOFFSETTO:+0200
TZNAME:CEST
DTSTART:20240331T010000
END:DAYLIGHT
BEGIN:STANDARD
TZOFFSETFROM:+0200
TZOFFSETTO:+0100
TZNAME:CET
DTSTART:20241027T010000
END:STANDARD
END:VTIMEZONE
BEGIN:VEVENT
DTSTART;TZID=Europe/Berlin:20231214T170000
DTEND;TZID=Europe/Berlin:20231214T190000
DTSTAMP:20260426T062135
CREATED:20230625T134253Z
LAST-MODIFIED:20230907T093855Z
UID:10007731-1702573200-1702580400@www.hsvbb.org
SUMMARY:Training mJB2
DESCRIPTION:https://www.hsvbb.org/jugend/mjb2/ \nTraining in der halben Halle.
URL:https://www.hsvbb.org/veranstaltung/training-mjb2/2023-12-14/
LOCATION:Sporthalle am Wasserturm (1430)\, Schönower Chaussee 2\, Bernau\, 16321\, Deutschland
CATEGORIES:männliche Jugend B,Training
ATTACH;FMTTYPE=image/png:https://www.hsvbb.org/wp-content/uploads/2023/09/training.png
END:VEVENT
BEGIN:VEVENT
DTSTART;TZID=Europe/Berlin:20231214T170000
DTEND;TZID=Europe/Berlin:20231214T190000
DTSTAMP:20260426T062135
CREATED:20230907T094900Z
LAST-MODIFIED:20230907T094931Z
UID:10008731-1702573200-1702580400@www.hsvbb.org
SUMMARY:Training mJB1
DESCRIPTION:https://www.hsvbb.org/jugend/mjb1/ \nTraining in der halben Halle.
URL:https://www.hsvbb.org/veranstaltung/training-mjb1-3/2023-12-14/
LOCATION:Sporthalle am Wasserturm (1430)\, Schönower Chaussee 2\, Bernau\, 16321\, Deutschland
CATEGORIES:männliche Jugend A,Training
ATTACH;FMTTYPE=image/png:https://www.hsvbb.org/wp-content/uploads/2023/09/training.png
END:VEVENT
END:VCALENDAR