BEGIN:VCALENDAR
VERSION:2.0
PRODID:-//HSV Bernauer Bären e.V. - ECPv6.15.13//NONSGML v1.0//EN
CALSCALE:GREGORIAN
METHOD:PUBLISH
X-ORIGINAL-URL:https://www.hsvbb.org
X-WR-CALDESC:Veranstaltungen für HSV Bernauer Bären e.V.
REFRESH-INTERVAL;VALUE=DURATION:PT1H
X-Robots-Tag:noindex
X-PUBLISHED-TTL:PT1H
BEGIN:VTIMEZONE
TZID:Europe/Berlin
BEGIN:DAYLIGHT
TZOFFSETFROM:+0100
TZOFFSETTO:+0200
TZNAME:CEST
DTSTART:20220327T010000
END:DAYLIGHT
BEGIN:STANDARD
TZOFFSETFROM:+0200
TZOFFSETTO:+0100
TZNAME:CET
DTSTART:20221030T010000
END:STANDARD
BEGIN:DAYLIGHT
TZOFFSETFROM:+0100
TZOFFSETTO:+0200
TZNAME:CEST
DTSTART:20230326T010000
END:DAYLIGHT
BEGIN:STANDARD
TZOFFSETFROM:+0200
TZOFFSETTO:+0100
TZNAME:CET
DTSTART:20231029T010000
END:STANDARD
BEGIN:DAYLIGHT
TZOFFSETFROM:+0100
TZOFFSETTO:+0200
TZNAME:CEST
DTSTART:20240331T010000
END:DAYLIGHT
BEGIN:STANDARD
TZOFFSETFROM:+0200
TZOFFSETTO:+0100
TZNAME:CET
DTSTART:20241027T010000
END:STANDARD
END:VTIMEZONE
BEGIN:VEVENT
DTSTART;TZID=Europe/Berlin:20231209T090000
DTEND;TZID=Europe/Berlin:20231209T200000
DTSTAMP:20260426T062148
CREATED:20231112T100951Z
LAST-MODIFIED:20231113T190755Z
UID:10009244-1702112400-1702152000@www.hsvbb.org
SUMMARY:10. Heimspieltag
DESCRIPTION:Verbandsliga: Männer 1 empfangen SV Motor Hennigsdorf \n\n\ngJD empfängt SV Berolina Lychen \n\n\ngJE 2 empfängt SV Berolina Lychen \n\n\ngJE empfängt 1.SV Eberswalde II \n\n\nmJB 2 empfängt SG Uckermark
URL:https://www.hsvbb.org/veranstaltung/10-heimspieltag/
LOCATION:Sporthalle am Wasserturm (1430)\, Schönower Chaussee 2\, Bernau\, 16321\, Deutschland
CATEGORIES:gemischte Jugend E II,Heimspiel,Highlight,männliche Jugend D I
ATTACH;FMTTYPE=image/png:https://www.hsvbb.org/wp-content/uploads/2023/09/heimspiel.png
END:VEVENT
BEGIN:VEVENT
DTSTART;TZID=Europe/Berlin:20231209T100000
DTEND;TZID=Europe/Berlin:20231209T113000
DTSTAMP:20260426T062148
CREATED:20230910T105628Z
LAST-MODIFIED:20230910T105628Z
UID:10009176-1702116000-1702121400@www.hsvbb.org
SUMMARY:mJB 2 empfängt SG Uckermark
DESCRIPTION:https://www.hsvbb.org/jugend/mjb2/
URL:https://www.hsvbb.org/veranstaltung/mjb-2-empfaengt-sg-uckermark/
LOCATION:Sporthalle am Wasserturm (1430)\, Schönower Chaussee 2\, Bernau\, 16321\, Deutschland
CATEGORIES:Heimspiel,männliche Jugend B
ATTACH;FMTTYPE=image/png:https://www.hsvbb.org/wp-content/uploads/2023/09/heimspiel.png
END:VEVENT
BEGIN:VEVENT
DTSTART;TZID=Europe/Berlin:20231209T115500
DTEND;TZID=Europe/Berlin:20231209T130000
DTSTAMP:20260426T062148
CREATED:20230910T125250Z
LAST-MODIFIED:20230910T125250Z
UID:10009204-1702122900-1702126800@www.hsvbb.org
SUMMARY:gJE empfängt 1.SV Eberswalde II
DESCRIPTION:https://www.hsvbb.org/jugend/gje1/
URL:https://www.hsvbb.org/veranstaltung/gje-empfaengt-1-sv-eberswalde-ii/
LOCATION:Sporthalle am Wasserturm (1430)\, Schönower Chaussee 2\, Bernau\, 16321\, Deutschland
CATEGORIES:gemischte Jugend E I,Heimspiel
ATTACH;FMTTYPE=image/png:https://www.hsvbb.org/wp-content/uploads/2023/09/heimspiel.png
END:VEVENT
BEGIN:VEVENT
DTSTART;TZID=Europe/Berlin:20231209T120000
DTEND;TZID=Europe/Berlin:20231209T133000
DTSTAMP:20260426T062148
CREATED:20230907T142327Z
LAST-MODIFIED:20230907T142327Z
UID:10009085-1702123200-1702128600@www.hsvbb.org
SUMMARY:Brandenburgliga: mJB 1 fährt zu 1. VfL Potsdam II
DESCRIPTION:https://www.hsvbb.org/jugend/mjb1/
URL:https://www.hsvbb.org/veranstaltung/brandenburgliga-mjb-1-faehrt-zu-1-vfl-potsdam-ii/
LOCATION:4800 Sporthalle HMA\, Heinrich-Mann-Allee 103\, Potsdam\, 14473
CATEGORIES:Auswärtsspiel,männliche Jugend A
ATTACH;FMTTYPE=image/png:https://www.hsvbb.org/wp-content/uploads/2023/09/auswaerts.png
END:VEVENT
BEGIN:VEVENT
DTSTART;TZID=Europe/Berlin:20231209T133500
DTEND;TZID=Europe/Berlin:20231209T143000
DTSTAMP:20260426T062148
CREATED:20230910T131939Z
LAST-MODIFIED:20230910T131939Z
UID:10009224-1702128900-1702132200@www.hsvbb.org
SUMMARY:gJE 2 empfängt SV Berolina Lychen
DESCRIPTION:https://www.hsvbb.org/jugend/gje2/
URL:https://www.hsvbb.org/veranstaltung/gje-2-empfaengt-sv-berolina-lychen/
LOCATION:Sporthalle am Wasserturm (1430)\, Schönower Chaussee 2\, Bernau\, 16321\, Deutschland
CATEGORIES:gemischte Jugend E II,Heimspiel
ATTACH;FMTTYPE=image/png:https://www.hsvbb.org/wp-content/uploads/2023/09/heimspiel.png
END:VEVENT
BEGIN:VEVENT
DTSTART;TZID=Europe/Berlin:20231209T150000
DTEND;TZID=Europe/Berlin:20231209T163000
DTSTAMP:20260426T062148
CREATED:20230910T103547Z
LAST-MODIFIED:20230910T103547Z
UID:10009165-1702134000-1702139400@www.hsvbb.org
SUMMARY:Ü40 fahren zum Oranienburger HC
DESCRIPTION:alte Herren – Ü40
URL:https://www.hsvbb.org/veranstaltung/ue40-fahren-zum-oranienburger-hc-2/
LOCATION:1407 HBI Sportforum\, Andre`Pican Straße 42\, Orannienburg\, 16515\, Deutschland
CATEGORIES:Auswärtsspiel,Ü40
ATTACH;FMTTYPE=image/png:https://www.hsvbb.org/wp-content/uploads/2023/09/auswaerts.png
END:VEVENT
BEGIN:VEVENT
DTSTART;TZID=Europe/Berlin:20231209T151500
DTEND;TZID=Europe/Berlin:20231209T163000
DTSTAMP:20260426T062148
CREATED:20230910T123404Z
LAST-MODIFIED:20230910T123404Z
UID:10009199-1702134900-1702139400@www.hsvbb.org
SUMMARY:gJD empfängt SV Berolina Lychen
DESCRIPTION:https://www.hsvbb.org/jugend/gjd/
URL:https://www.hsvbb.org/veranstaltung/gjd-empfaengt-sv-berolina-lychen/
LOCATION:Sporthalle am Wasserturm (1430)\, Schönower Chaussee 2\, Bernau\, 16321\, Deutschland
CATEGORIES:Heimspiel,männliche Jugend D I
ATTACH;FMTTYPE=image/png:https://www.hsvbb.org/wp-content/uploads/2023/09/heimspiel.png
END:VEVENT
BEGIN:VEVENT
DTSTART;TZID=Europe/Berlin:20231209T173000
DTEND;TZID=Europe/Berlin:20231209T190000
DTSTAMP:20260426T062148
CREATED:20230907T125318Z
LAST-MODIFIED:20231113T190222Z
UID:10009063-1702143000-1702148400@www.hsvbb.org
SUMMARY:Verbandsliga: Männer 1 empfangen SV Motor Hennigsdorf
DESCRIPTION:1. Männer
URL:https://www.hsvbb.org/veranstaltung/verbandsliga-maenner-1-empfangen-sv-motor-hennigsdorf/
LOCATION:Sporthalle am Wasserturm (1430)\, Schönower Chaussee 2\, Bernau\, 16321\, Deutschland
CATEGORIES:Heimspiel,Männer I
ATTACH;FMTTYPE=image/png:https://www.hsvbb.org/wp-content/uploads/2023/09/heimspiel.png
END:VEVENT
END:VCALENDAR